Workbook
Name G: 'Passing #10 Sieve'!$B$3
Name Gone: 'Passing #10 Sieve'!$G$20:$G$26
Name K: 'Passing #10 Sieve'!$K$20:$K$26
Name L: 'Passing #10 Sieve'!$J$20:$J$26
Name P: 'Passing #10 Sieve'!$H$20:$H$26
Name R_: 'Passing #10 Sieve'!$F$20:$F$26
Name T: 'Passing #10 Sieve'!$B$20:$B$26
Name W: 'Passing #10 Sieve'!$E$6

Sheet Concentration
A1: Initial Water Quantity | B1: =D1/3.79 -> 8.1345646 | C1: gallons | D1: =15.215+15.615 -> 30.83 | E1: kg
A2: Initial Water Quantity | B2: =B1/7.48052 -> 1.087433 | C2: ft3
A3: Water Density | B3: 62.4 | C3: lb/ft3
A4: Water Weight | B4: =B3*B2 -> 67.855822 | C4: lb
A6: Soil Weight | B6: ='Retained #10 Sieve'!C19 -> 48.1 | C6: g
A7: Organics Weight | B7: =B8-B6 -> 3.2 | C7: g
A8: Total Solids Weight | B8: 51.3 | C8: g
A10: Soil Weight | B10: =CONVERT(B6,"g","lbm") -> 0.10604235 | C10: lb
A11: Organics Weight | B11: =CONVERT(B7,"g","lbm") -> 0.0070547924 | C11: lb
A12: Total Solids Weight | B12: =CONVERT(B8,"g","lbm") -> 0.11309714 | C12: lb
A14: Concentration Soils | B14: =B10/($B$4+$B$12) -> 0.0015601594
A15: Concentration Organics | B15: =B11/($B$4+$B$12) -> 0.00010379439
A16: Concentration Total Solids | B16: =B12/($B$4+$B$12) -> 0.0016639538

Sheet Retained #10 Sieve
A3: Max Particle Size (in) | E3: 0.125 | O3: Sieve | P3: Sieve (mm) | R3: Nominal Large Size (in) | S3: Minimum Mass of Portion Retained on No. 10
A4: Minimum Amount Retained on No. 10 (g) | E4: =IF(E3<R4,S4,(INDEX($R$3:$S$9,MATCH(E3,$R$3:$R$9,1),2))) -> 500 | O4: 3" | P4: 76.2 | R4: 0.375 | S4: 500
O5: 2 1/2" | P5: 63.5 | R5: 0.75 | S5: 1000
A6: Sieve | B6: Sieve (mm) | C6: Sieve (g) | D6: Sample 1 (g) | E6: Sample 2 (g) | F6: Sample 3 (g) | G6: Sample 4 (g) | H6: Total Retained (g) | I6: Percent Retained | J6: Cumulative Percent Retained | K6: Percent Passing | O6: 2" | P6: 50.8 | R6: 1 | S6: 2000
B7: =IFERROR(VLOOKUP(A7,$O$4:$P$49,2,FALSE),"") | H7: =SUM(D7:G7)-COUNTIF(D7:G7,">0")*C7 -> 0 | I7: =H7/$H$17 -> 0 | J7: =I7 -> 0 | K7: =1-J7 -> 1 | O7: 1 1/2" | P7: 38.1 | R7: 1.5 | S7: 3000
B8: =IFERROR(VLOOKUP(A8,$O$4:$P$49,2,FALSE),"") | H8: =SUM(D8:G8)-COUNTIF(D8:G8,">0")*C8 -> 0 | I8: =H8/$H$17 -> 0 | J8: =I8+J7 -> 0 | K8: =1-J8 -> 1 | O8: 1" | P8: 25.4 | R8: 2 | S8: 4000
B9: =IFERROR(VLOOKUP(A9,$O$4:$P$49,2,FALSE),"") | H9: =SUM(D9:G9)-COUNTIF(D9:G9,">0")*C9 -> 0 | I9: =H9/$H$17 -> 0 | J9: =I9+J8 -> 0 | K9: =1-J9 -> 1 | O9: 7/8" | P9: 22.6 | R9: 3 | S9: 5000
B10: =IFERROR(VLOOKUP(A10,$O$4:$P$49,2,FALSE),"") | H10: =SUM(D10:G10)-COUNTIF(D10:G10,">0")*C10 -> 0 | I10: =H10/$H$17 -> 0 | J10: =I10+J9 -> 0 | K10: =1-J10 -> 1 | O10: 3/4" | P10: 19
B11: =IFERROR(VLOOKUP(A11,$O$4:$P$49,2,FALSE),"") | H11: =SUM(D11:G11)-COUNTIF(D11:G11,">0")*C11 -> 0 | I11: =H11/$H$17 -> 0 | J11: =I11+J10 -> 0 | K11: =1-J11 -> 1 | O11: 5/8" | P11: 16
B12: =IFERROR(VLOOKUP(A12,$O$4:$P$49,2,FALSE),"") | H12: =SUM(D12:G12)-COUNTIF(D12:G12,">0")*C12 -> 0 | I12: =H12/$H$17 -> 0 | J12: =I12+J11 -> 0 | K12: =1-J12 -> 1 | O12: .530" | P12: 13.5
A13: No. 4 | B13: =IFERROR(VLOOKUP(A13,$O$4:$P$49,2,FALSE),"") -> 4.76 | C13: 714.9 | D13: 715.4 | H13: =SUM(D13:G13)-COUNTIF(D13:G13,">0")*C13 -> 0.5 | I13: =H13/$H$17 -> 0.0097465887 | J13: =I13+J12 -> 0.0097465887 | K13: =1-J13 -> 0.99025341 | O13: 1/2" | P13: 12.7
A14: No. 8 | B14: =IFERROR(VLOOKUP(A14,$O$4:$P$49,2,FALSE),"") -> 2.38 | C14: 712.3 | D14: 713.9 | H14: =SUM(D14:G14)-COUNTIF(D14:G14,">0")*C14 -> 1.6 | I14: =H14/$H$17 -> 0.031189084 | J14: =I14+J13 -> 0.040935673 | K14: =1-J14 -> 0.95906433 | O14: 7/16" | P14: 11.2
A15: No. 10 | B15: =IFERROR(VLOOKUP(A15,$O$4:$P$49,2,FALSE),"") -> 2 | C15: 427 | D15: 428.1 | H15: =SUM(D15:G15)-COUNTIF(D15:G15,">0")*C15 -> 1.1 | I15: =H15/$H$17 -> 0.021442495 | J15: =I15+J14 -> 0.062378168 | K15: =1-J15 -> 0.93762183 | O15: 3/8" | P15: 9.51
A16: Pan | B16: =IFERROR(VLOOKUP(A16,$O$4:$P$49,2,FALSE),"") -> 0 | C16: 370.1 | D16: =C16+48.1 -> 418.2 | H16: =SUM(D16:G16)-COUNTIF(D16:G16,">0")*C16 -> 48.1 | I16: =H16/$H$17 -> 0.93762183 | J16: =I16+J15 -> 1 | K16: =1-J16 -> 0 | O16: 5/16" | P16: 8
A17: TOTAL | D17: =IF(SUM(D7:D16)<=0,0,SUM(D7:D16)-SUM($C$7:$C$16)) -> 51.3 | E17: =IF(SUM(E7:E16)<=0,0,SUM(E7:E16)-SUM($C$7:$C$16)) -> 0 | F17: =IF(SUM(F7:F16)<=0,0,SUM(F7:F16)-SUM($C$7:$C$16)) -> 0 | G17: =IF(SUM(G7:G16)<=0,0,SUM(G7:G16)-SUM($C$7:$C$16)) -> 0 | H17: =SUM(H7:H16) -> 51.3 | O17: .265" | P17: 6.73
O18: 1/4" | P18: 6.35
A19: Passing No. 10 | C19: =H16 -> 48.1 | D19: g | O19: 1/2" | P19: 5.66
A20: Retained on No. 10 | C20: =SUM(H7:H15) -> 3.2 | D20: g | O20: No. 4 | P20: 4.76
A21: Percent Passing No. 10 | C21: =C19/SUM(C19:C20) -> 0.93762183 | O21: No. 5 | P21: 4
A22: Percent Retained No. 10 | C22: =1-C21 -> 0.062378168 | O22: No. 6 | P22: 3.36
O23: No. 7 | P23: 2.83
O24: No. 8 | P24: 2.38
O25: No. 10 | P25: 2
O26: No. 12 | P26: 1.68
O27: No. 14 | P27: 1.41
O28: No. 16 | P28: 1.19
O29: No. 18 | P29: 1
O30: No. 20 | P30: 0.841
O31: No. 25 | P31: 0.707
O32: No. 30 | P32: 0.595
O33: No. 35 | P33: 0.5
O34: No. 40 | P34: 0.42
... O49: Pan | P49: 0

Sheet Passing #10 Sieve
A1: Basic Information | C1: Moisture Correction | H1: Weight Percentages
A2: Hydrometer Type | B2: 151H | C2: Mass of Oven Dry Sample | E2: 51.3 | F2: g | H2: Percent coarse aggregate (retained #10) | I2: ='Retained #10 Sieve'!C22 -> 0.062378168
A3: Soil Specific Gravity, G | B3: 2.65 | C3: Mass of Air Dry Sample | E3: 51.3 | F3: g | H3: Mass of fine aggregate | I3: =W -> 48.1 | J3: g
A4: Specific Gravity of Liquid, G1 | B4: 1 | C4: Mass passing #10 | E4: ='Retained #10 Sieve'!C19 -> 48.1 | F4: g | H4: Mass of fine used in hydrometer test | I4: 48.1 | J4: g
C5: Hygroscopic Moisture Correction Factor | E5: =E2/E3 -> 1 | F5: =IF(E5>1,"NG","OK") -> OK | H5: Mass of fine aggregate retained on #2002 | I5: =888-875.2 -> 12.8 | J5: g | T5: Correction Factor K
C6: Weight, W | E6: =E4 -> 48.1 | F6: g | H6: Mass of fine aggregate passing #200 | I6: =I3-I5 -> 35.3 | J6: g | T6: Temperature,°C | U6: Specific Gravity of Soil Particles
C7: Note 1: Air dried sample to be used in hydrometer test | H7: TOTAL AGGREGATE MASS | I7: ='Retained #10 Sieve'!H17 -> 51.3 | J7: g | U7: 2.45 | V7: 2.5 | W7: 2.55 | X7: 2.6 | Y7: 2.65 | Z7: 2.7 | AA7: 2.75 | AB7: 2.8 | AC7: 2.85
C8: Composite Correction (See Section 7.2) | H8: Percent of fine aggregate between #10 & #200 | I8: =I5/I4 -> 0.26611227 | T8: 16 | U8: 0.0151 | V8: 0.01505 | W8: 0.01481 | X8: 0.01457 | Y8: 0.01435 | Z8: 0.01414 | AA8: 0.01394 | AB8: 0.01374 | AC8: 0.01356
D9: Hydrometer Reading | E9: Temperature (°F) | F9: Composite Correction, R | H9: Percent of fine aggregate passing #200 | I9: =1-I8 -> 0.73388773 | T9: 17 | U9: 0.01511 | V9: 0.01486 | W9: 0.01462 | X9: 0.01439 | Y9: 0.01417 | Z9: 0.01396 | AA9: 0.01376 | AB9: 0.01356 | AC9: 0.01338
C10: Reading 1 | D10: 1.005 | E10: 65.6 | F10: =D10-1 -> 0.005 | H10: Percent of total aggregate between #10 & #200 | I10: =I8*(1-$I$2) -> 0.24951267 | T10: 18 | U10: 0.01492 | V10: 0.01467 | W10: 0.01443 | X10: 0.01421 | Y10: 0.01399 | Z10: 0.01378 | AA10: 0.01359 | AB10: 0.01339 | AC10: 0.01321
C11: Reading 2 | D11: 1.004 | E11: 75.5 | F11: =D11-1 -> 0.004 | H11: Percent of total aggregate passing #200 | I11: =I9*(1-$I$2) -> 0.68810916 | T11: 19 | U11: 0.01474 | V11: 0.01449 | W11: 0.01425 | X11: 0.01403 | Y11: 0.01382 | Z11: 0.01361 | AA11: 0.01342 | AB11: 0.1323 | AC11: 0.01305
C12: Correction Factor = | D12: =(F11-F10)/(E11-E10) -> -0.0001010101 | E12: (Temp) + | F12: =-D12*E10+F10 -> 0.011626263 | H12: Note 2: Oven dried mass of fine aggregate to be used for weight percentages | T12: 20 | U12: 0.01456 | V12: 0.01431 | W12: 0.01408 | X12: 0.01386 | Y12: 0.01365 | Z12: 0.01344 | AA12: 0.01325 | AB12: 0.01307 | AC12: 0.01289
B13: Hydrometer Test | T13: 21 | U13: 0.01438 | V13: 0.01414 | W13: 0.01391 | X13: 0.01369 | Y13: 0.01348 | Z13: 0.01328 | AA13: 0.01309 | AB13: 0.01291 | AC13: 0.01273
T14: 22 | U14: 0.01421 | V14: 0.01397 | W14: 0.01374 | X14: 0.01353 | Y14: 0.01332 | Z14: 0.01312 | AA14: 0.01294 | AB14: 0.01276 | AC14: 0.01258
B15: Hydrometer Readings | H15: Equation (1) | J15: Table 2 | K15: Table 3 | L15: Equation (4) | T15: 23 | U15: 0.01404 | V15: 0.01381 | W15: 0.01358 | X15: 0.01337 | Y15: 0.01317 | Z15: 0.01297 | AA15: 0.01279 | AB15: 0.01261 | AC15: 0.01243
A16: TIME FOR TEST (hh:mm) | B16: TIME INTERVALS (MIN) [T] | C16: TEMPERATURE (°F) | D16: HYDROMETER READING | E16: COMPOSITE CORRECTION READING | F16: CORRECTED HYDROMETER READING, [R] | G16: SPECIFIC GRAVITY OF LIQUID, [G1] | H16: PERCENTAGE IN SUSPENSION (PASSING), [P] | I16: PERCENT DROPPED FROM SUSPENSION (RETAINED) | J16: EFFECTIVE DEPTH (cm), [L] | K16: TEMPERATURE CONSTANT, [K] | L16: DIAMETER OF PARTICLES (mm), [D] | T16: 24 | U16: 0.01388 | V16: 0.01365 | W16: 0.01342 | X16: 0.01321 | Y16: 0.01301 | Z16: 0.01282 | AA16: 0.01264 | AB16: 0.01246 | AC16: 0.01229
T17: 25 | U17: 0.01372 | V17: 0.01349 | W17: 0.01327 | X17: 0.01306 | Y17: 0.01286 | Z17: 0.01267 | AA17: 0.01249 | AB17: 0.01232 | AC17: 0.01215
N18: 0 | T18: 26 | U18: 0.01357 | V18: 0.01334 | W18: 0.01312 | X18: 0.01291 | Y18: 0.01272 | Z18: 0.01253 | AA18: 0.01235 | AB18: 0.01218 | AC18: 0.01201
T19: 27 | U19: 0.01342 | V19: 0.01319 | W19: 0.01297 | X19: 0.01277 | Y19: 0.01258 | Z19: 0.01239 | AA19: 0.01221 | AB19: 0.01204 | AC19: 0.01188
A20: 0.33958333 | B20: 2 | C20: 71 | D20: =N20-$N$18 -> 1.017 | E20: =$D$12*C20+$F$12 -> 0.0044545455 | F20: =IF(OR(C20=0,D20=0),"",D20-E20) -> 1.0125455 | G20: =$D$12*C20+$F$12+1 -> 1.0044545 | H20: =IF(OR(C20=0,D20=0),"",(1000/W)*(G/(G-Gone))*(R_-1)) -> 0.4200271 | I20: =IF(OR(C20=0,D20=0),"",1-H20) -> 0.5799729 | J20: =IF(OR(C20=0,D20=0),"",INDEX($T$33:$U$94,MATCH($D20,$T$33:$T$94,1),2)) -> 11.8 | K20: =IF(OR(C20=0,D20=0),"",INDEX($T$7:$AC$22,IFERROR(MATCH(CONVERT($C20,"F","C"),$T$6:$T$22,1),2),MATCH($B$3,$T$7:$AC$7,0))) -> 0.01332 | L20: =IF(OR(C20=0,D20=0),"",K*SQRT(L/T)) -> 0.032354168 | M20: 71 | N20: 1.017 | T20: 28 | U20: 0.01327 | V20: 0.01304 | W20: 0.01283 | X20: 0.01264 | Y20: 0.01244 | Z20: 0.01255 | AA20: 0.01208 | AB20: 0.01191 | AC20: 0.01175
A21: =$A$20+B21/(24*60) -> 0.34305556 | B21: 5 | C21: 71 | D21: =N21-$N$18 -> 1.016 | E21: =$D$12*C21+$F$12 -> 0.0044545455 | F21: =IF(OR(C21=0,D21=0),"",D21-E21) -> 1.0115455 | G21: =$D$12*C21+$F$12+1 -> 1.0044545 | H21: =IF(OR(C21=0,D21=0),"",(1000/W)*(G/(G-Gone))*(R_-1)) -> 0.38654668 | I21: =IF(OR(C21=0,D21=0),"",1-H21) -> 0.61345332 | J21: =IF(OR(C21=0,D21=0),"",INDEX($T$33:$U$94,MATCH($D21,$T$33:$T$94,1),2)) -> 12.1 | K21: =IF(OR(C21=0,D21=0),"",INDEX($T$7:$AC$22,IFERROR(MATCH(CONVERT($C21,"F","C"),$T$6:$T$22,1),2),MATCH($B$3,$T$7:$AC$7,0))) -> 0.01332 | L21: =IF(OR(C21=0,D21=0),"",K*SQRT(L/T)) -> 0.020721057 | M21: 71 | N21: 1.016 | T21: 29 | U21: 0.01312 | V21: 0.0129 | W21: 0.01269 | X21: 0.01249 | Y21: 0.0123 | Z21: 0.01212 | AA21: 0.01195 | AB21: 0.01178 | AC21: 0.01162
A22: =$A$20+B22/(24*60) -> 0.35 | B22: 15 | C22: 71 | D22: =N22-$N$18 -> 1.0155 | E22: =$D$12*C22+$F$12 -> 0.0044545455 | F22: =IF(OR(C22=0,D22=0),"",D22-E22) -> 1.0110455 | G22: =$D$12*C22+$F$12+1 -> 1.0044545 | H22: =IF(OR(C22=0,D22=0),"",(1000/W)*(G/(G-Gone))*(R_-1)) -> 0.36980647 | I22: =IF(OR(C22=0,D22=0),"",1-H22) -> 0.63019353 | J22: =IF(OR(C22=0,D22=0),"",INDEX($T$33:$U$94,MATCH($D22,$T$33:$T$94,1),2)) -> 12.3 | K22: =IF(OR(C22=0,D22=0),"",INDEX($T$7:$AC$22,IFERROR(MATCH(CONVERT($C22,"F","C"),$T$6:$T$22,1),2),MATCH($B$3,$T$7:$AC$7,0))) -> 0.01332 | L22: =IF(OR(C22=0,D22=0),"",K*SQRT(L/T)) -> 0.012061773 | M22: 71 | N22: 1.0155 | T22: 30 | U22: 0.01298 | V22: 0.01276 | W22: 0.01256 | X22: 0.01236 | Y22: 0.01217 | Z22: 0.01199 | AA22: 0.01182 | AB22: 0.01165 | AC22: 0.01149
A23: =$A$20+B23/(24*60) -> 0.36041667 | B23: 30 | C23: 71 | D23: =N23-$N$18 -> 1.0145 | E23: =$D$12*C23+$F$12 -> 0.0044545455 | F23: =IF(OR(C23=0,D23=0),"",D23-E23) -> 1.0100455 | G23: =$D$12*C23+$F$12+1 -> 1.0044545 | H23: =IF(OR(C23=0,D23=0),"",(1000/W)*(G/(G-Gone))*(R_-1)) -> 0.33632605 | I23: =IF(OR(C23=0,D23=0),"",1-H23) -> 0.66367395 | J23: =IF(OR(C23=0,D23=0),"",INDEX($T$33:$U$94,MATCH($D23,$T$33:$T$94,1),2)) -> 12.6 | K23: =IF(OR(C23=0,D23=0),"",INDEX($T$7:$AC$22,IFERROR(MATCH(CONVERT($C23,"F","C"),$T$6:$T$22,1),2),MATCH($B$3,$T$7:$AC$7,0))) -> 0.01332 | L23: =IF(OR(C23=0,D23=0),"",K*SQRT(L/T)) -> 0.0086323466 | M23: 71 | N23: 1.0145
A24: =$A$20+B24/(24*60) -> 0.38125 | B24: 60 | C24: 71 | D24: =N24-$N$18 -> 1.0135 | E24: =$D$12*C24+$F$12 -> 0.0044545455 | F24: =IF(OR(C24=0,D24=0),"",D24-E24) -> 1.0090455 | G24: =$D$12*C24+$F$12+1 -> 1.0044545 | H24: =IF(OR(C24=0,D24=0),"",(1000/W)*(G/(G-Gone))*(R_-1)) -> 0.30284563 | I24: =IF(OR(C24=0,D24=0),"",1-H24) -> 0.69715437 | J24: =IF(OR(C24=0,D24=0),"",INDEX($T$33:$U$94,MATCH($D24,$T$33:$T$94,1),2)) -> 12.9 | K24: =IF(OR(C24=0,D24=0),"",INDEX($T$7:$AC$22,IFERROR(MATCH(CONVERT($C24,"F","C"),$T$6:$T$22,1),2),MATCH($B$3,$T$7:$AC$7,0))) -> 0.01332 | L24: =IF(OR(C24=0,D24=0),"",K*SQRT(L/T)) -> 0.0061762299 | M24: 71 | N24: 1.0135
A25: =$A$20+B25/(24*60) -> 0.51319444 | B25: 250 | C25: 71.5 | D25: =N25-$N$18 -> 1.013 | E25: =$D$12*C25+$F$12 -> 0.0044040404 | F25: =IF(OR(C25=0,D25=0),"",D25-E25) -> 1.008596 | G25: =$D$12*C25+$F$12+1 -> 1.004404 | H25: =IF(OR(C25=0,D25=0),"",(1000/W)*(G/(G-Gone))*(R_-1)) -> 0.28778752 | I25: =IF(OR(C25=0,D25=0),"",1-H25) -> 0.71221248 | J25: =IF(OR(C25=0,D25=0),"",INDEX($T$33:$U$94,MATCH($D25,$T$33:$T$94,1),2)) -> 12.9 | K25: =IF(OR(C25=0,D25=0),"",INDEX($T$7:$AC$22,IFERROR(MATCH(CONVERT($C25,"F","C"),$T$6:$T$22,1),2),MATCH($B$3,$T$7:$AC$7,0))) -> 0.01332 | L25: =IF(OR(C25=0,D25=0),"",K*SQRT(L/T)) -> 0.0030257224 | M25: 71.5 | N25: 1.013
A26: =$A$20+B26/(24*60) -> 1.3395833 | B26: 1440 | C26: 68.9 | D26: =N26-$N$18 -> 1.0125 | E26: =$D$12*C26+$F$12 -> 0.0046666667 | F26: =IF(OR(C26=0,D26=0),"",D26-E26) -> 1.0078333 | G26: =$D$12*C26+$F$12+1 -> 1.0046667 | H26: =IF(OR(C26=0,D26=0),"",(1000/W)*(G/(G-Gone))*(R_-1)) -> 0.26229711 | I26: =IF(OR(C26=0,D26=0),"",1-H26) -> 0.73770289 | J26: =IF(OR(C26=0,D26=0),"",INDEX($T$33:$U$94,MATCH($D26,$T$33:$T$94,1),2)) -> 13.1 | K26: =IF(OR(C26=0,D26=0),"",INDEX($T$7:$AC$22,IFERROR(MATCH(CONVERT($C26,"F","C"),$T$6:$T$22,1),2),MATCH($B$3,$T$7:$AC$7,0))) -> 0.01348 | L26: =IF(OR(C26=0,D26=0),"",K*SQRT(L/T)) -> 0.0012857138 | M26: 68.9 | N26: 1.0125
T28: Effective Length
T29: Hydrometer 151H | V29: Hydrometer 152H
A30: Sieves to use for fine fraction retained on #200 sieve (after oven drying) See Section 11 | J30: =I5/I7 -> 0.24951267 | T30: Actual Hydrometer reading | U30: Effective Depth, L (cm) | V30: Actual Hydrometer reading | W30: Effective Depth, L (cm)
A31: Sieve | B31: SIZE (mm) | C31: Sieve (g) | D31: Sieve+Soil (g) | E31: Weight Retained (g) | F31: Percent Retained | G31: Cumulative Percent Retained | H31: Percent Passing | I31: Cumulative Percent Retained by total mass of test | J31: Percent Passing by total mass of test
A32: No. 30 | B32: =IFERROR(VLOOKUP(A32,'Retained #10 Sieve'!$O$4:$P$49,2,FALSE),"") -> 0.595 | C32: 620.4 | D32: 635.3 | E32: =IF(OR(C32=0,D32=0),"",D32-C32) -> 14.9 | F32: =IF(OR(C32=0,D32=0),"",E32/$E$41) -> 0.35224586 | G32: =IFERROR(F32+G31,F32) -> 0.35224586 | H32: =1-G32 -> 0.64775414 | I32: =IF(OR(C32=0,D32=0),"",G32*$I$10) -> 0.087889806 | J32: =IF(OR(C32=0,D32=0),"",1-I32) -> 0.91211019
A33: No. 60 | B33: =IFERROR(VLOOKUP(A33,'Retained #10 Sieve'!$O$4:$P$49,2,FALSE),"") -> 0.25 | C33: 313.9 | D33: 330.5 | E33: =IF(OR(C33=0,D33=0),"",D33-C33) -> 16.6 | F33: =IF(OR(C33=0,D33=0),"",E33/$E$41) -> 0.39243499 | G33: =IFERROR(F33+G32,F33) -> 0.74468085 | H33: =1-G33 -> 0.25531915 | I33: =IF(OR(C33=0,D33=0),"",G33*$I$10) -> 0.18580731 | J33: =IF(OR(C33=0,D33=0),"",1-I33) -> 0.81419269 | T33: 1 | U33: 16.3 | V33: 0 | W33: 16.3
A34: No. 80 | B34: =IFERROR(VLOOKUP(A34,'Retained #10 Sieve'!$O$4:$P$49,2,FALSE),"") -> 0.177 | C34: 417.8 | D34: 421.7 | E34: =IF(OR(C34=0,D34=0),"",D34-C34) -> 3.9 | F34: =IF(OR(C34=0,D34=0),"",E34/$E$41) -> 0.092198582 | G34: =IFERROR(F34+G33,F34) -> 0.83687943 | H34: =1-G34 -> 0.16312057 | I34: =IF(OR(C34=0,D34=0),"",G34*$I$10) -> 0.20881202 | J34: =IF(OR(C34=0,D34=0),"",1-I34) -> 0.79118798 | T34: 1.001 | U34: 16 | V34: 1 | W34: 16.1
A35: No. 100 | B35: =IFERROR(VLOOKUP(A35,'Retained #10 Sieve'!$O$4:$P$49,2,FALSE),"") -> 0.149 | C35: 475.4 | D35: 476.5 | E35: =IF(OR(C35=0,D35=0),"",D35-C35) -> 1.1 | F35: =IF(OR(C35=0,D35=0),"",E35/$E$41) -> 0.026004728 | G35: =IFERROR(F35+G34,F35) -> 0.86288416 | H35: =1-G35 -> 0.13711584 | I35: =IF(OR(C35=0,D35=0),"",G35*$I$10) -> 0.21530053 | J35: =IF(OR(C35=0,D35=0),"",1-I35) -> 0.78469947 | T35: 1.002 | U35: 15.8 | V35: 2 | W35: 16
A36: No. 200 | B36: =IFERROR(VLOOKUP(A36,'Retained #10 Sieve'!$O$4:$P$49,2,FALSE),"") -> 0.074 | C36: 317.2 | D36: 322.9 | E36: =IF(OR(C36=0,D36=0),"",D36-C36) -> 5.7 | F36: =IF(OR(C36=0,D36=0),"",E36/$E$41) -> 0.13475177 | G36: =IFERROR(F36+G35,F36) -> 0.99763593 | H36: =1-G36 -> 0.0023640662 | I36: =IF(OR(C36=0,D36=0),"",G36*$I$10) -> 0.24892281 | J36: =IF(OR(C36=0,D36=0),"",1-I36) -> 0.75107719 | T36: 1.003 | U36: 15.5 | V36: 3 | W36: 15.8
A37: Pan | B37: =IFERROR(VLOOKUP(A37,'Retained #10 Sieve'!$O$4:$P$49,2,FALSE),"") -> 0 | C37: 370.1 | D37: 370.2 | E37: =IF(OR(C37=0,D37=0),"",D37-C37) -> 0.1 | F37: =IF(OR(C37=0,D37=0),"",E37/$E$41) -> 0.0023640662 | G37: =IFERROR(F37+G36,F37) -> 1 | H37: =1-G37 -> 0 | I37: =IF(OR(C37=0,D37=0),"",G37*$I$10) -> 0.24951267 | J37: =IF(OR(C37=0,D37=0),"",1-I37) -> 0.75048733 | T37: 1.004 | U37: 15.2 | V37: 4 | W37: 15.6
B38: =IFERROR(VLOOKUP(A38,'Retained #10 Sieve'!$O$4:$P$49,2,FALSE),"") | E38: =IF(OR(C38=0,D38=0),"",D38-C38) | F38: =IF(OR(C38=0,D38=0),"",E38/$E$41) | G38: =IFERROR(F38+G37,F38) | H38: =IF(OR(C38=0,D38=0),"",F38*($I$10)) | I38: =IF(OR(C38=0,D38=0),"",G38*($I$10)) | J38: =IF(OR(C38=0,D38=0),"",1-I38) | T38: 1.005 | U38: 15 | V38: 5 | W38: 15.5
B39: =IFERROR(VLOOKUP(A39,'Retained #10 Sieve'!$O$4:$P$49,2,FALSE),"") | E39: =IF(OR(C39=0,D39=0),"",D39-C39) | F39: =IF(OR(C39=0,D39=0),"",E39/$E$41) | G39: =IFERROR(F39+G38,F39) | H39: =IF(OR(C39=0,D39=0),"",F39*(1-$I$8)) | I39: =IF(OR(C39=0,D39=0),"",G39*($I$10)) | J39: =IF(OR(C39=0,D39=0),"",1-I39) | T39: 1.006 | U39: 14.7 | V39: 6 | W39: 15.3
B40: =IFERROR(VLOOKUP(A40,'Retained #10 Sieve'!$O$4:$P$49,2,FALSE),"") | E40: =IF(OR(C40=0,D40=0),"",D40-C40) | F40: =IF(OR(C40=0,D40=0),"",E40/$E$41) | G40: =IFERROR(F40+G39,F40) | H40: =IF(OR(C40=0,D40=0),"",F40*(1-$I$8)) | I40: =IF(OR(C40=0,D40=0),"",G40*($I$10)) | J40: =IF(OR(C40=0,D40=0),"",1-I40) | T40: 1.007 | U40: 14.4 | V40: 7 | W40: 15.2
E41: =SUM(E32:E38) -> 42.3 | F41: 1 | G41: 2 | H41: 1 | I41: 1 | J41: 1 | T41: 1.008 | U41: 14.2 | V41: 8 | W41: 15
...

Sheet TOTALS
A2: Coarse Aggregate | C2: Sieve | D2: Sieve Size (mm) | E2: Percent Passing | F2: Percent Retained | G2: percentage used in this portion of test | H2: Category by Retained %
C3: ='Retained #10 Sieve'!A7 -> 0 | D3: =IFERROR(IFERROR(VALUE(VLOOKUP(C3,'Retained #10 Sieve'!$O$4:$P$49,2,FALSE)),VALUE(C3)),(D2/2)^2) -> 0 | E3: =1-F3 -> 1 | F3: =1-'Retained #10 Sieve'!K7 -> 0 | G3: ='Passing #10 Sieve'!I2 -> 0.062378168 | H3: Gravel | I3: =F8 -> 0 | J3: =IFERROR(INDEX($AA$5:$AA$14,MATCH(D3,$AB$5:$AB$14,1),1),"")
C4: ='Retained #10 Sieve'!A8 -> 0 | D4: =IFERROR(IFERROR(VALUE(VLOOKUP(C4,'Retained #10 Sieve'!$O$4:$P$49,2,FALSE)),VALUE(C4)),(D3/2)^2) -> 0 | E4: =1-F4 -> 1 | F4: =1-'Retained #10 Sieve'!K8 -> 0 | J4: =IFERROR(INDEX($AA$5:$AA$14,MATCH(D4,$AB$5:$AB$14,1),1),"") | AA4: Name | AB4: Min (mm) | AC4: Max (mm)
C5: ='Retained #10 Sieve'!A9 -> 0 | D5: =IFERROR(IFERROR(VALUE(VLOOKUP(C5,'Retained #10 Sieve'!$O$4:$P$49,2,FALSE)),VALUE(C5)),(D4/2)^2) -> 0 | E5: =1-F5 -> 1 | F5: =1-'Retained #10 Sieve'!K9 -> 0 | J5: =IFERROR(INDEX($AA$5:$AA$14,MATCH(D5,$AB$5:$AB$14,1),1),"") | AA5: Clay | AB5: 1e-10 | AC5: 0.002
C6: ='Retained #10 Sieve'!A10 -> 0 | D6: =IFERROR(IFERROR(VALUE(VLOOKUP(C6,'Retained #10 Sieve'!$O$4:$P$49,2,FALSE)),VALUE(C6)),(D5/2)^2) -> 0 | E6: =1-F6 -> 1 | F6: =1-'Retained #10 Sieve'!K10 -> 0 | J6: =IFERROR(INDEX($AA$5:$AA$14,MATCH(D6,$AB$5:$AB$14,1),1),"") | AA6: Silt | AB6: 0.002 | AC6: 0.06
C7: ='Retained #10 Sieve'!A11 -> 0 | D7: =IFERROR(IFERROR(VALUE(VLOOKUP(C7,'Retained #10 Sieve'!$O$4:$P$49,2,FALSE)),VALUE(C7)),(D6/2)^2) -> 0 | E7: =1-F7 -> 1 | F7: =1-'Retained #10 Sieve'!K11 -> 0 | J7: =IFERROR(INDEX($AA$5:$AA$14,MATCH(D7,$AB$5:$AB$14,1),1),"") | AA7: Fine Sand | AB7: 0.06 | AC7: 0.2
C8: ='Retained #10 Sieve'!A12 -> 0 | D8: =IFERROR(IFERROR(VALUE(VLOOKUP(C8,'Retained #10 Sieve'!$O$4:$P$49,2,FALSE)),VALUE(C8)),(D7/2)^2) -> 0 | E8: =1-F8 -> 1 | F8: =1-'Retained #10 Sieve'!K12 -> 0 | J8: =IFERROR(INDEX($AA$5:$AA$14,MATCH(D8,$AB$5:$AB$14,1),1),"") | AA8: Medium Sand | AB8: 0.2 | AC8: 0.6
C9: ='Retained #10 Sieve'!A13 -> No. 4 | D9: =IFERROR(IFERROR(VALUE(VLOOKUP(C9,'Retained #10 Sieve'!$O$4:$P$49,2,FALSE)),VALUE(C9)),(D8/2)^2) -> 4.76 | E9: =1-F9 -> 0.99025341 | F9: =1-'Retained #10 Sieve'!K13 -> 0.0097465887 | H9: Fine Gravel | I9: =F11-F8 -> 0.062378168 | J9: =IFERROR(INDEX($AA$5:$AA$14,MATCH(D9,$AB$5:$AB$14,1),1),"") -> Fine Gravel | AA9: Coarse Sand | AB9: 0.6 | AC9: 2
C10: ='Retained #10 Sieve'!A14 -> No. 8 | D10: =IFERROR(IFERROR(VALUE(VLOOKUP(C10,'Retained #10 Sieve'!$O$4:$P$49,2,FALSE)),VALUE(C10)),(D9/2)^2) -> 2.38 | E10: =1-F10 -> 0.95906433 | F10: =1-'Retained #10 Sieve'!K14 -> 0.040935673 | J10: =IFERROR(INDEX($AA$5:$AA$14,MATCH(D10,$AB$5:$AB$14,1),1),"") -> Fine Gravel | AA10: Fine Gravel | AB10: 2 | AC10: 6
C11: ='Retained #10 Sieve'!A15 -> No. 10 | D11: =IFERROR(IFERROR(VALUE(VLOOKUP(C11,'Retained #10 Sieve'!$O$4:$P$49,2,FALSE)),VALUE(C11)),(D10/2)^2) -> 2 | E11: =1-F11 -> 0.93762183 | F11: =1-'Retained #10 Sieve'!K15 -> 0.062378168 | J11: =IFERROR(INDEX($AA$5:$AA$14,MATCH(D11,$AB$5:$AB$14,1),1),"") -> Fine Gravel | AA11: Medium Gravel | AB11: 6 | AC11: 20
A12: Fine Aggregate | B12: Retained #200 | C12: ='Passing #10 Sieve'!A32 -> No. 30 | D12: =IFERROR(IFERROR(VALUE(VLOOKUP(C12,'Retained #10 Sieve'!$O$4:$P$49,2,FALSE)),VALUE(C12)),(D11/2)^2) -> 0.595 | E12: =1-F12 -> 0.91211019 | F12: ='Passing #10 Sieve'!G32*$G$12 -> 0.087889806 | G12: ='Passing #10 Sieve'!I10 -> 0.24951267 | H12: Medium Sand | I12: =F13-F11 -> 0.12342914 | J12: =IFERROR(INDEX($AA$5:$AA$14,MATCH(D12,$AB$5:$AB$14,1),1),"") -> Medium Sand | AA12: Coarse Gravel | AB12: 20 | AC12: 60
C13: ='Passing #10 Sieve'!A33 -> No. 60 | D13: =IFERROR(IFERROR(VALUE(VLOOKUP(C13,'Retained #10 Sieve'!$O$4:$P$49,2,FALSE)),VALUE(C13)),(D12/2)^2) -> 0.25 | E13: =1-F13 -> 0.81419269 | F13: ='Passing #10 Sieve'!G33*$G$12 -> 0.18580731 | J13: =IFERROR(INDEX($AA$5:$AA$14,MATCH(D13,$AB$5:$AB$14,1),1),"") -> Medium Sand | AA13: Very Coarse Gravel | AB13: 60 | AC13: 200
C14: ='Passing #10 Sieve'!A34 -> No. 80 | D14: =IFERROR(IFERROR(VALUE(VLOOKUP(C14,'Retained #10 Sieve'!$O$4:$P$49,2,FALSE)),VALUE(C14)),(D13/2)^2) -> 0.177 | E14: =1-F14 -> 0.79118798 | F14: ='Passing #10 Sieve'!G34*$G$12 -> 0.20881202 | H14: Fine Sand | I14: =F16-F13 -> 0.063115498 | J14: =IFERROR(INDEX($AA$5:$AA$14,MATCH(D14,$AB$5:$AB$14,1),1),"") -> Fine Sand | AA14: Boulders | AB14: 200 | AC14: 200000
C15: ='Passing #10 Sieve'!A35 -> No. 100 | D15: =IFERROR(IFERROR(VALUE(VLOOKUP(C15,'Retained #10 Sieve'!$O$4:$P$49,2,FALSE)),VALUE(C15)),(D14/2)^2) -> 0.149 | E15: =1-F15 -> 0.78469947 | F15: ='Passing #10 Sieve'!G35*$G$12 -> 0.21530053 | J15: =IFERROR(INDEX($AA$5:$AA$14,MATCH(D15,$AB$5:$AB$14,1),1),"") -> Fine Sand
C16: ='Passing #10 Sieve'!A36 -> No. 200 | D16: =IFERROR(IFERROR(VALUE(VLOOKUP(C16,'Retained #10 Sieve'!$O$4:$P$49,2,FALSE)),VALUE(C16)),(D15/2)^2) -> 0.074 | E16: =1-F16 -> 0.75107719 | F16: ='Passing #10 Sieve'!G36*$G$12 -> 0.24892281 | J16: =IFERROR(INDEX($AA$5:$AA$14,MATCH(D16,$AB$5:$AB$14,1),1),"") -> Fine Sand
B17: Passing #200 | C17: ='Passing #10 Sieve'!L20 -> 0.032354168 | D17: =IFERROR(IFERROR(VALUE(VLOOKUP(C17,'Retained #10 Sieve'!$O$4:$P$49,2,FALSE)),VALUE(C17)),(#REF!/2)^2) -> 0.032354168 | E17: =1-F17 -> 0.2890245 | F17: =1-'Passing #10 Sieve'!C45 -> 0.7109755 | G17: ='Passing #10 Sieve'!I6/'Passing #10 Sieve'!$I$7 -> 0.68810916 | H17: Silt | I17: =F22-F16 -> 0.55304797 | J17: =IFERROR(INDEX($AA$5:$AA$14,MATCH(D17,$AB$5:$AB$14,1),1),"") -> Silt
C18: ='Passing #10 Sieve'!L21 -> 0.020721057 | D18: =IFERROR(IFERROR(VALUE(VLOOKUP(C18,'Retained #10 Sieve'!$O$4:$P$49,2,FALSE)),VALUE(C18)),(D17/2)^2) -> 0.020721057 | E18: =1-F18 -> 0.26598631 | F18: =1-'Passing #10 Sieve'!C46 -> 0.73401369 | J18: =IFERROR(INDEX($AA$5:$AA$14,MATCH(D18,$AB$5:$AB$14,1),1),"") -> Silt
C19: ='Passing #10 Sieve'!L22 -> 0.012061773 | D19: =IFERROR(IFERROR(VALUE(VLOOKUP(C19,'Retained #10 Sieve'!$O$4:$P$49,2,FALSE)),VALUE(C19)),(D18/2)^2) -> 0.012061773 | E19: =1-F19 -> 0.25446722 | F19: =1-'Passing #10 Sieve'!C47 -> 0.74553278 | J19: =IFERROR(INDEX($AA$5:$AA$14,MATCH(D19,$AB$5:$AB$14,1),1),"") -> Silt
C20: ='Passing #10 Sieve'!L23 -> 0.0086323466 | D20: =IFERROR(IFERROR(VALUE(VLOOKUP(C20,'Retained #10 Sieve'!$O$4:$P$49,2,FALSE)),VALUE(C20)),(D19/2)^2) -> 0.0086323466 | E20: =1-F20 -> 0.23142904 | F20: =1-'Passing #10 Sieve'!C48 -> 0.76857096 | J20: =IFERROR(INDEX($AA$5:$AA$14,MATCH(D20,$AB$5:$AB$14,1),1),"") -> Silt
C21: ='Passing #10 Sieve'!L24 -> 0.0061762299 | D21: =IFERROR(IFERROR(VALUE(VLOOKUP(C21,'Retained #10 Sieve'!$O$4:$P$49,2,FALSE)),VALUE(C21)),(D20/2)^2) -> 0.0061762299 | E21: =1-F21 -> 0.20839085 | F21: =1-'Passing #10 Sieve'!C49 -> 0.79160915 | J21: =IFERROR(INDEX($AA$5:$AA$14,MATCH(D21,$AB$5:$AB$14,1),1),"") -> Silt
C22: ='Passing #10 Sieve'!L25 -> 0.0030257224 | D22: =IFERROR(IFERROR(VALUE(VLOOKUP(C22,'Retained #10 Sieve'!$O$4:$P$49,2,FALSE)),VALUE(C22)),(D21/2)^2) -> 0.0030257224 | E22: =1-F22 -> 0.19802923 | F22: =1-'Passing #10 Sieve'!C50 -> 0.80197077 | J22: =IFERROR(INDEX($AA$5:$AA$14,MATCH(D22,$AB$5:$AB$14,1),1),"") -> Silt
C23: ='Passing #10 Sieve'!L26 -> 0.0012857138 | D23: =IFERROR(IFERROR(VALUE(VLOOKUP(C23,'Retained #10 Sieve'!$O$4:$P$49,2,FALSE)),VALUE(C23)),(D22/2)^2) -> 0.0012857138 | E23: =1-F23 -> 0.18048905 | F23: =1-'Passing #10 Sieve'!C51 -> 0.81951095 | H23: Clay | I23: =1-SUM(I4:I22) -> 0.19802923 | J23: =IFERROR(INDEX($AA$5:$AA$14,MATCH(D23,$AB$5:$AB$14,1),1),"") -> Clay
AF32: PORTION PASSING #40
AF33: Sieve | AG33: Size (mm) | AH33: % Passing
AF34: No. 40 | AH34: =E14/$E$14 -> 1
AF35: =C15 -> No. 100 | AG35: =D15 -> 0.149 | AH35: =E15/$E$14 -> 0.99179903
AF36: =#REF! -> #REF! | AG36: =#REF! -> #REF! | AH36: =#REF!/$E$14 -> #REF!
AF37: =#REF! -> #REF! | AG37: =#REF! -> #REF! | AH37: =#REF!/$E$14 -> #REF!
AF38: =C17 -> 0.032354168 | AG38: =D17 -> 0.032354168 | AH38: =E17/$E$14 -> 0.36530446
AF39: =C18 -> 0.020721057 | AG39: =D18 -> 0.020721057 | AH39: =E18/$E$14 -> 0.33618599
AF40: =C19 -> 0.012061773 | AG40: =D19 -> 0.012061773 | AH40: =E19/$E$14 -> 0.32162675
AF41: =C20 -> 0.0086323466 | AG41: =D20 -> 0.0086323466 | AH41: =E20/$E$14 -> 0.29250828
AF42: =C21 -> 0.0061762299 | AG42: =D21 -> 0.0061762299 | AH42: =E21/$E$14 -> 0.26338981
AF43: =C22 -> 0.0030257224 | AG43: =D22 -> 0.0030257224 | AH43: =E22/$E$14 -> 0.25029352
M44: USCS Classification | U44: USCS Classification for Portion Passing #40 | AF44: =C23 -> 0.0012857138 | AG44: =D23 -> 0.0012857138 | AH44: =E23/$E$14 -> 0.2281241
N45: D60 | O45: 0.06 | P45: mm | R45: PI | S45: 10.6 | V45: D60 | W45: 0.064 | X45: mm | Z45: PI | AA45: =S45 -> 10.6
N46: D30 | O46: 0.031 | P46: mm | R46: LL | S46: 31.7 | V46: D30 | W46: 0.042 | X46: mm | Z46: LL | AA46: =S46 -> 31.7
N47: D10 | O47: 0.0085 | P47: mm | R47: Cu | S47: =O45/O47 -> 7.0588235 | V47: D10 | W47: 0.008 | X47: mm | Z47: Cu | AA47: =W45/W47 -> 8
R48: Cc | S48: =O46^2/(O45*O47) -> 1.8843137 | Z48: Cc | AA48: =W46^2/(W45*W47) -> 3.4453125
M50: retained on 200 | N50: coarse fraction on No. 4 | O50: Fines | P50: Clean Gravel | Q50: Gravels w/ fines | R50: % sand | U50: retained on 200 | V50: coarse fraction on No. 4 | W50: Fines | X50: Clean Sands | Y50: Sands w/ fines | Z50: % sand
...

Sheet PRINT
B2: PARTICLE SIZE ANALYSIS OF SOILS | I2: PARTICLE SIZE ANALYSIS OF SOILS
C3: ASTM D422 | I3: ASTM D422
A5: Client: | B5: Circle C Marketing | D5: Date of Test: | E5: 43767 | K5: Description of Sand & Gravel Particles
A6: Job No.: | B6: 3615-01 | D6: Sample Source: | E6: Pond Outlet | M6: Shape: | S6: Angular
A7: Daily Test No.: | B7: 19-22 | D7: Project: | E7: 1400-A WPCF Permit Renewal | M7: Hardness: | S7: Hard & Durable
A8: Material Size: | B8: Fine Particles | D8: Sample #: | M8: Difficulty Dispersing? | S8: No
A9: Material Use: | B9: Potato Wash | D9: Wt. of Sample: | E9: 85g | M9: Dispersing Agent: | S9: Sodium Hexametaphosphate
A10: Sampled By: | B10: S. Reed | D10: Mass Concentration (soils): | F10: =Concentration!B14 -> 0.0015601594 | M10: Dispersing Device: | S10: Apparatus A
A11: Sample Date: | B11: 43608 | D11: Mass Concentration (organics): | F11: =Concentration!B15 -> 0.00010379439 | J11: +3" | K11: Gravel | O11: Coarse Sand | R11: Medium Sand | S11: Fine Sand | T11: Silt | U11: Clay
A12: Tested By: | B12: B. McKinney | D12: Mass Concentration (total solids): | F12: =Concentration!B16 -> 0.0016639538 | J12: =1-SUM(K12:U12) -> 0.062378168 | K12: =IFERROR(VLOOKUP(K11,TOTALS!$H$3:$I$38,2,FALSE),0) -> 0 | O12: =IFERROR(VLOOKUP(O11,TOTALS!$H$3:$I$38,2,FALSE),0) -> 0 | R12: =IFERROR(VLOOKUP(R11,TOTALS!$H$3:$I$38,2,FALSE),0) -> 0.12342914 | S12: =IFERROR(VLOOKUP(S11,TOTALS!$H$3:$I$38,2,FALSE),0) -> 0.063115498 | T12: =IFERROR(VLOOKUP(T11,TOTALS!$H$3:$I$38,2,FALSE),0) -> 0.55304797 | U12: =IFERROR(VLOOKUP(U11,TOTALS!$H$3:$I$38,2,FALSE),0) -> 0.19802923
E13: 2.65 | S13: Percent Passing #200
U14: ='Passing #10 Sieve'!I11 -> 0.68810916
L17: Coarse Aggregate | N17: =TOTALS!C2 -> Sieve | Q17: =TOTALS!D2 -> Sieve Size (mm) | S17: =TOTALS!E2 -> Percent Passing | T17: =TOTALS!F2 -> Percent Retained
N19: =TOTALS!C3 -> 0 | Q19: =TOTALS!D3 -> 0 | S19: =TOTALS!E3 -> 1 | T19: =TOTALS!F3 -> 0
N20: =TOTALS!C4 -> 0 | Q20: =TOTALS!D4 -> 0 | S20: =TOTALS!E4 -> 1 | T20: =TOTALS!F4 -> 0
N21: =TOTALS!C5 -> 0 | Q21: =TOTALS!D5 -> 0 | S21: =TOTALS!E5 -> 1 | T21: =TOTALS!F5 -> 0
N22: =TOTALS!C6 -> 0 | Q22: =TOTALS!D6 -> 0 | S22: =TOTALS!E6 -> 1 | T22: =TOTALS!F6 -> 0
N23: =TOTALS!C7 -> 0 | Q23: =TOTALS!D7 -> 0 | S23: =TOTALS!E7 -> 1 | T23: =TOTALS!F7 -> 0
N24: =TOTALS!C8 -> 0 | Q24: =TOTALS!D8 -> 0 | S24: =TOTALS!E8 -> 1 | T24: =TOTALS!F8 -> 0
N25: =TOTALS!C9 -> No. 4 | Q25: =TOTALS!D9 -> 4.76 | S25: =TOTALS!E9 -> 0.99025341 | T25: =TOTALS!F9 -> 0.0097465887
N26: =TOTALS!C10 -> No. 8 | Q26: =TOTALS!D10 -> 2.38 | S26: =TOTALS!E10 -> 0.95906433 | T26: =TOTALS!F10 -> 0.040935673
N27: =TOTALS!C11 -> No. 10 | Q27: =TOTALS!D11 -> 2 | S27: =TOTALS!E11 -> 0.93762183 | T27: =TOTALS!F11 -> 0.062378168
L28: Fine Aggregate | M28: Retained #200 | N28: =TOTALS!C12 -> No. 30 | Q28: =TOTALS!D12 -> 0.595 | S28: =TOTALS!E12 -> 0.91211019 | T28: =TOTALS!F12 -> 0.087889806
N29: =TOTALS!C13 -> No. 60 | Q29: =TOTALS!D13 -> 0.25 | S29: =TOTALS!E13 -> 0.81419269 | T29: =TOTALS!F13 -> 0.18580731
N30: =TOTALS!C14 -> No. 80 | Q30: =TOTALS!D14 -> 0.177 | S30: =TOTALS!E14 -> 0.79118798 | T30: =TOTALS!F14 -> 0.20881202
N31: =TOTALS!C15 -> No. 100 | Q31: =TOTALS!D15 -> 0.149 | S31: =TOTALS!E15 -> 0.78469947 | T31: =TOTALS!F15 -> 0.21530053
M32: Passing #200 | N32: =TOTALS!C17 -> 0.032354168 | Q32: =TOTALS!D17 -> 0.032354168 | S32: =TOTALS!E17 -> 0.2890245 | T32: =TOTALS!F17 -> 0.7109755
N33: =TOTALS!C18 -> 0.020721057 | Q33: =TOTALS!D18 -> 0.020721057 | S33: =TOTALS!E18 -> 0.26598631 | T33: =TOTALS!F18 -> 0.73401369
N34: =TOTALS!C19 -> 0.012061773 | Q34: =TOTALS!D19 -> 0.012061773 | S34: =TOTALS!E19 -> 0.25446722 | T34: =TOTALS!F19 -> 0.74553278
N35: =TOTALS!C20 -> 0.0086323466 | Q35: =TOTALS!D20 -> 0.0086323466 | S35: =TOTALS!E20 -> 0.23142904 | T35: =TOTALS!F20 -> 0.76857096
N36: =TOTALS!C21 -> 0.0061762299 | Q36: =TOTALS!D21 -> 0.0061762299 | S36: =TOTALS!E21 -> 0.20839085 | T36: =TOTALS!F21 -> 0.79160915
N37: =TOTALS!C22 -> 0.0030257224 | Q37: =TOTALS!D22 -> 0.0030257224 | S37: =TOTALS!E22 -> 0.19802923 | T37: =TOTALS!F22 -> 0.80197077
N38: =TOTALS!C23 -> 0.0012857138 | Q38: =TOTALS!D23 -> 0.0012857138 | S38: =TOTALS!E23 -> 0.18048905 | T38: =TOTALS!F23 -> 0.81951095
G39: Page 1/2 | V39: Page 2/2

Sheet RESULTS
E1: Sieve Analysis | G1: Hydrometer | I1: Washing | K1: 2nd Sieve Analysis | M1: TOTALS
C2: Mass (g): | E2: ='Retained #10 Sieve'!H17 -> 51.3 | G2: ='Passing #10 Sieve'!I4 -> 48.1 | I2: =G2-K2 -> 5.8 | K2: ='Passing #10 Sieve'!E41 -> 42.3
C3: Percent of Mass: | E3: =E2/E2 -> 1 | G3: =G2/E2 -> 0.93762183 | I3: =I2/E2 -> 0.11306043 | K3: =K2/E2 -> 0.8245614
A4: Coarse Aggregate | C4: Sieve | D4: Sieve (mm) | E4: Percent Retained | F4: Mass Retained | G4: Percent Retained | H4: Mass Retained | I4: Percent Retained | J4: Mass Retained | K4: Percent Retained | L4: Mass Retained | M4: Percent Retained | N4: Percent Passing
C5: ='Retained #10 Sieve'!A7 -> 0 | D5: =IFERROR(VLOOKUP(C5,'Retained #10 Sieve'!$O$4:$P$49,2,FALSE),C5) -> 0 | E5: ='Retained #10 Sieve'!J7 -> 0 | F5: =E5*$E$2 -> 0 | M5: =E5*$E$3 -> 0 | N5: =1-M5 -> 1
C6: ='Retained #10 Sieve'!A8 -> 0 | D6: =IFERROR(VLOOKUP(C6,'Retained #10 Sieve'!$O$4:$P$49,2,FALSE),C6) -> 0 | E6: ='Retained #10 Sieve'!J8 -> 0 | F6: =E6*$E$2 -> 0 | M6: =E6*$E$3 -> 0 | N6: =1-M6 -> 1
C7: ='Retained #10 Sieve'!A9 -> 0 | D7: =IFERROR(VLOOKUP(C7,'Retained #10 Sieve'!$O$4:$P$49,2,FALSE),C7) -> 0 | E7: ='Retained #10 Sieve'!J9 -> 0 | F7: =E7*$E$2 -> 0 | M7: =E7*$E$3 -> 0 | N7: =1-M7 -> 1
C8: ='Retained #10 Sieve'!A10 -> 0 | D8: =IFERROR(VLOOKUP(C8,'Retained #10 Sieve'!$O$4:$P$49,2,FALSE),C8) -> 0 | E8: ='Retained #10 Sieve'!J10 -> 0 | F8: =E8*$E$2 -> 0 | M8: =E8*$E$3 -> 0 | N8: =1-M8 -> 1
C9: ='Retained #10 Sieve'!A11 -> 0 | D9: =IFERROR(VLOOKUP(C9,'Retained #10 Sieve'!$O$4:$P$49,2,FALSE),C9) -> 0 | E9: ='Retained #10 Sieve'!J11 -> 0 | F9: =E9*$E$2 -> 0 | M9: =E9*$E$3 -> 0 | N9: =1-M9 -> 1
C10: ='Retained #10 Sieve'!A12 -> 0 | D10: =IFERROR(VLOOKUP(C10,'Retained #10 Sieve'!$O$4:$P$49,2,FALSE),C10) -> 0 | E10: ='Retained #10 Sieve'!J12 -> 0 | F10: =E10*$E$2 -> 0 | M10: =E10*$E$3 -> 0 | N10: =1-M10 -> 1
C11: ='Retained #10 Sieve'!A13 -> No. 4 | D11: =IFERROR(VLOOKUP(C11,'Retained #10 Sieve'!$O$4:$P$49,2,FALSE),C11) -> 4.76 | E11: ='Retained #10 Sieve'!J13 -> 0.0097465887 | F11: =E11*$E$2 -> 0.5 | M11: =E11*$E$3 -> 0.0097465887 | N11: =1-M11 -> 0.99025341
C12: ='Retained #10 Sieve'!A14 -> No. 8 | D12: =IFERROR(VLOOKUP(C12,'Retained #10 Sieve'!$O$4:$P$49,2,FALSE),C12) -> 2.38 | E12: ='Retained #10 Sieve'!J14 -> 0.040935673 | F12: =E12*$E$2 -> 2.1 | M12: =E12*$E$3 -> 0.040935673 | N12: =1-M12 -> 0.95906433
C13: ='Retained #10 Sieve'!A15 -> No. 10 | D13: =IFERROR(VLOOKUP(C13,'Retained #10 Sieve'!$O$4:$P$49,2,FALSE),C13) -> 2 | E13: ='Retained #10 Sieve'!J15 -> 0.062378168 | F13: =E13*$E$2 -> 3.2 | M13: =E13*$E$3 -> 0.062378168 | N13: =1-M13 -> 0.93762183
A14: Fine Aggregate | B14: Retained #200 | C14: ='Passing #10 Sieve'!A32 -> No. 30 | D14: =IFERROR(VLOOKUP(C14,'Retained #10 Sieve'!$O$4:$P$49,2,FALSE),C14) -> 0.595 | K14: ='Passing #10 Sieve'!G32 -> 0.35224586 | L14: =K14*$K$2 -> 14.9 | M14: =K14*$K$3 -> 0.29044834 | N14: =1-M14 -> 0.70955166
C15: ='Passing #10 Sieve'!A33 -> No. 60 | D15: =IFERROR(VLOOKUP(C15,'Retained #10 Sieve'!$O$4:$P$49,2,FALSE),C15) -> 0.25 | K15: ='Passing #10 Sieve'!G33 -> 0.74468085 | L15: =K15*$K$2 -> 31.5 | M15: =K15*$K$3 -> 0.61403509 | N15: =1-M15 -> 0.38596491
C16: ='Passing #10 Sieve'!A34 -> No. 80 | D16: =IFERROR(VLOOKUP(C16,'Retained #10 Sieve'!$O$4:$P$49,2,FALSE),C16) -> 0.177 | K16: ='Passing #10 Sieve'!G34 -> 0.83687943 | L16: =K16*$K$2 -> 35.4 | M16: =K16*$K$3 -> 0.69005848 | N16: =1-M16 -> 0.30994152
C17: ='Passing #10 Sieve'!A35 -> No. 100 | D17: =IFERROR(VLOOKUP(C17,'Retained #10 Sieve'!$O$4:$P$49,2,FALSE),C17) -> 0.149 | K17: ='Passing #10 Sieve'!G35 -> 0.86288416 | L17: =K17*$K$2 -> 36.5 | M17: =K17*$K$3 -> 0.71150097 | N17: =1-M17 -> 0.28849903
C18: ='Passing #10 Sieve'!A36 -> No. 200 | D18: =IFERROR(VLOOKUP(C18,'Retained #10 Sieve'!$O$4:$P$49,2,FALSE),C18) -> 0.074 | I18: =K2/G2 -> 0.87941788 | J18: =I2 -> 5.8 | K18: ='Passing #10 Sieve'!G36 -> 0.99763593 | L18: =K18*$K$2 -> 42.2 | M18: =1-N18 -> 0.88499025 | N18: =(J18+(K2-L18))/E2 -> 0.11500975
B19: Passing #200 | C19: ='Passing #10 Sieve'!L20 -> 0.032354168 | D19: =IFERROR(VLOOKUP(C19,'Retained #10 Sieve'!$O$4:$P$49,2,FALSE),C19) -> 0.032354168 | G19: ='Passing #10 Sieve'!I20 -> 0.5799729 | H19: =G19*$G$2 -> 27.896696 | M19: =G19*$G$3 -> 0.54379525 | N19: =1-M19 -> 0.45620475
C20: ='Passing #10 Sieve'!L21 -> 0.020721057 | D20: =IFERROR(VLOOKUP(C20,'Retained #10 Sieve'!$O$4:$P$49,2,FALSE),C20) -> 0.020721057 | G20: ='Passing #10 Sieve'!I21 -> 0.61345332 | H20: =G20*$G$2 -> 29.507105 | M20: =G20*$G$3 -> 0.57518722 | N20: =1-M20 -> 0.42481278
C21: ='Passing #10 Sieve'!L22 -> 0.012061773 | D21: =IFERROR(VLOOKUP(C21,'Retained #10 Sieve'!$O$4:$P$49,2,FALSE),C21) -> 0.012061773 | G21: ='Passing #10 Sieve'!I22 -> 0.63019353 | H21: =G21*$G$2 -> 30.312309 | M21: =G21*$G$3 -> 0.59088321 | N21: =1-M21 -> 0.40911679
C22: ='Passing #10 Sieve'!L23 -> 0.0086323466 | D22: =IFERROR(VLOOKUP(C22,'Retained #10 Sieve'!$O$4:$P$49,2,FALSE),C22) -> 0.0086323466 | G22: ='Passing #10 Sieve'!I23 -> 0.66367395 | H22: =G22*$G$2 -> 31.922717 | M22: =G22*$G$3 -> 0.62227518 | N22: =1-M22 -> 0.37772482
C23: ='Passing #10 Sieve'!L24 -> 0.0061762299 | D23: =IFERROR(VLOOKUP(C23,'Retained #10 Sieve'!$O$4:$P$49,2,FALSE),C23) -> 0.0061762299 | G23: ='Passing #10 Sieve'!I24 -> 0.69715437 | H23: =G23*$G$2 -> 33.533125 | M23: =G23*$G$3 -> 0.65366716 | N23: =1-M23 -> 0.34633284
C24: ='Passing #10 Sieve'!L25 -> 0.0030257224 | D24: =IFERROR(VLOOKUP(C24,'Retained #10 Sieve'!$O$4:$P$49,2,FALSE),C24) -> 0.0030257224 | G24: ='Passing #10 Sieve'!I25 -> 0.71221248 | H24: =G24*$G$2 -> 34.25742 | M24: =G24*$G$3 -> 0.66778597 | N24: =1-M24 -> 0.33221403
C25: ='Passing #10 Sieve'!L26 -> 0.0012857138 | D25: =IFERROR(VLOOKUP(C25,'Retained #10 Sieve'!$O$4:$P$49,2,FALSE),C25) -> 0.0012857138 | G25: ='Passing #10 Sieve'!I26 -> 0.73770289 | H25: =G25*$G$2 -> 35.483509 | M25: =G25*$G$3 -> 0.69168633 | N25: =1-M25 -> 0.30831367
