Workbook

Sheet Sheet1
A2: Code | B2: Code | C2: Code | E2: Company | F2: Amount | I2: Code | J2: Company
A3: 123 | B3: 456 | E3: A | F3: {=SUMPRODUCT((Results!$A$2:$A$7=$A3:$C3)*(Results!$B$2:$B$7))} -> 1200 | I3: 123 | J3: A
C4: 789 | E4: B | F4: {=SUMPRODUCT((Results!$A$2:$A$7=$A4:$C4)*(Results!$B$2:$B$7))} -> 900 | I4: 456 | J4: A
I5: 789 | J5: B
J7: Company | K7: =_xlfn.FORMULATEXT(J11) -> =INDEX(Table3[Company],MATCH([@Code],Table3[Code],0),1)
J8: 1 | K8: =_xlfn.FORMULATEXT(K11) -> =SUMPRODUCT((Table2[Code]=I11)*(Table2[Amount]))
E9: Expected Result | J9: % Split | K9: =_xlfn.FORMULATEXT(L11) -> =SUMPRODUCT((Table1[Code]=I11)*(Table1[%]))*K11
E10: Code | F10: 1 | G10: % Split | I10: Code | J10: Company | K10: 100% | L10: % Split | N10: Company | O10: 100% | P10: % Split
E11: 123 & 456 | F11: =Results!B2+Results!B3+Results!B5+Results!B6 -> 1200 | G11: =(Results!B2+Results!B5)*Table!C3+(Results!B3+Results!B6)*Table!C4 -> 1100 | I11: 123 | J11: =INDEX(Table3[Company],MATCH(Table4[[#This Row],[Code]],Table3[Code],0),1) -> A | K11: {=SUMPRODUCT((Table2[Code]=I11)*(Table2[Amount]))} -> 500 | L11: {=SUMPRODUCT((Table1[Code]=I11)*(Table1[%]))*K11} -> 400 | N11: A | O11: {=SUMPRODUCT((Table4[Company]=Table5[[#This Row],[Company]])*(Table4[100%]))} -> 1200 | P11: {=SUMPRODUCT((Table4[Company]=Table5[[#This Row],[Company]])*(Table4[% Split]))} -> 1100
E12: 789 | F12: =Results!B4+Results!B7 -> 900 | G12: =(Results!B4+Results!B7)*Table!C4 -> 900 | I12: 456 | J12: =INDEX(Table3[Company],MATCH(Table4[[#This Row],[Code]],Table3[Code],0),1) -> A | K12: {=SUMPRODUCT((Table2[Code]=I12)*(Table2[Amount]))} -> 700 | L12: {=SUMPRODUCT((Table1[Code]=I12)*(Table1[%]))*K12} -> 700 | N12: B | O12: {=SUMPRODUCT((Table4[Company]=Table5[[#This Row],[Company]])*(Table4[100%]))} -> 900 | P12: {=SUMPRODUCT((Table4[Company]=Table5[[#This Row],[Company]])*(Table4[% Split]))} -> 900
I13: 789 | J13: =INDEX(Table3[Company],MATCH(Table4[[#This Row],[Code]],Table3[Code],0),1) -> B | K13: {=SUMPRODUCT((Table2[Code]=I13)*(Table2[Amount]))} -> 900 | L13: {=SUMPRODUCT((Table1[Code]=I13)*(Table1[%]))*K13} -> 900
N14: 1 | O14: =_xlfn.FORMULATEXT(O11) -> =SUMPRODUCT((Table4[Company]=[@Company])*(Table4[100%]))
N15: % Split | O15: =_xlfn.FORMULATEXT(P11) -> =SUMPRODUCT((Table4[Company]=[@Company])*(Table4[% Split]))

Sheet Results
A1: Code | B1: Amount
A2: 123 | B2: 100
A3: 456 | B3: 200
A4: 789 | B4: 300
A5: 123 | B5: 400
A6: 456 | B6: 500
A7: 789 | B7: 600

Sheet Table
A2: Code | B2: Desc | C2: %
A3: 123 | B3: Dept 1 | C3: 0.8
A4: 456 | B4: Dept 2 | C4: 1
A5: 789 | C5: 1
