Workbook
Name A: Vs!$C$66
Name Amin: Vs!$C$63
Name CDa: Vs!$K$24
Name D: Vs!$C$67
Name dist: Vs!$C$71
Name Dp: Vs!$C$25
Name dpmin: Vs!$C$4
Name dx: Vs!$C$72
Name dy: Vs!$C$70
Name g: Vs!$C$23
Name L: Vs!$C$64
Name muf: Vs!$C$27
Name P: Vs!$C$2
Name phi: Vs!$K$20
Name Q: Vs!$C$61
Name Re: Vs!$K$21
Name rhof: Vs!$C$21
Name rhop: Vs!$C$22
Name S: Vs!$C$20
Name T: Vs!$C$26
Name tone: Vs!$C$69
Name ttwo: Vs!$C$71
Name v0: Vs!$C$62
Name vx: Vs!$C$68
Name W: Vs!$C$65
Name x: Vs!$Z$6:$AE$6
Name x0: Vs!$Z$7:$AE$7
Name xone: Vs!$Z$8:$AE$8
Name y: Vs!$Z$11:$AE$11
Name y0: Vs!$Z$9:$AE$9
Name yone: Vs!$Z$10:$AE$10
Name Zone: Vs!$K$22

Sheet Vs
A1: Step 1: Determine Minimum Particle Size to be Settled
A2: P | B2: P | C2: 0.65 | E2: Percent of total Mass to be Settled | Y2: Rock Trap Material | AC2: Pit Material
C3: Pit | E3: Material Type | Z3: x | AA3: y | AD3: x | AE3: y
A4: dpmin | B4: Dp min | C4: =IF(C3="Pit",AD11,Z11) -> 0.0068615979 | D4: mm | E4: Minimum Particle Size that Must Settle | Y4: 1 | Z4: ='Material Gradations'!K23 -> 0.0013757967 | AA4: =AE4 -> 0.35 | AC4: 1 | AD4: ='Material Gradations'!C31 -> 3.2284071e-06 | AE4: =1-C2 -> 0.35
Y5: 2 | Z5: ='Material Gradations'!K4 -> 50.8 | AA5: =AA4 -> 0.35 | AC5: 2 | AD5: ='Material Gradations'!D4 -> 50.8 | AE5: =AE4 -> 0.35
Y6: x | Z6: =C2 -> 0.65 | AC6: x | AD6: =C2 -> 0.65
Y7: x0 | Z7: =VLOOKUP(x,'Material Gradations'!$F$4:$F$31,1,TRUE) -> 0.6139104 | AC7: x0 | AD7: =VLOOKUP(x,'Material Gradations'!M4:M23,1,TRUE) -> 0.5856
Y8: x1 | Z8: =INDEX('Material Gradations'!$F$4:$F$31,MATCH(Vs!Z7,'Material Gradations'!$F$4:$F$31,0)+1,1) -> 0.6639104 | AC8: x1 | AD8: =INDEX('Material Gradations'!M4:M23,MATCH(Vs!AD7,'Material Gradations'!M4:M23,0)+1,1) -> 0.65462481
Y9: y0 | Z9: =INDEX('Material Gradations'!$D$4:$D$31,MATCH(Vs!Z7,'Material Gradations'!$F$4:$F$31,0),1) -> 0.00057430387 | AA9: mm | AC9: y0 | AD9: =INDEX('Material Gradations'!K4:K23,MATCH(Vs!AD7,'Material Gradations'!M4:M23,0),1) -> 0.0092913629 | AE9: mm
Y10: y1 | Z10: =INDEX('Material Gradations'!$D$4:$D$31,MATCH(Vs!Z8,'Material Gradations'!$F$4:$F$31,0),1) -> 0.00024216767 | AA10: mm | AC10: y1 | AD10: =INDEX('Material Gradations'!K5:K24,MATCH(Vs!AD8,'Material Gradations'!M5:M24,0),1) -> 0.006687107 | AE10: mm
Y11: y | Z11: =y0+(x-x0)*(yone-y0)/(xone-x0) -> 0.0003345706 | AA11: mm | AC11: y | AD11: =y0+(x-x0)*(yone-y0)/(xone-x0) -> 0.0068615979 | AE11: mm
A18: Step 1: Determine Settling Velocity (vs)
A19: Method A (from text) | I19: Method B (https://nptel.ac.in/courses/103107084/module3/lecture7/lecture7.pdf)
A20: S | B20: S | C20: 2.65 | E20: Specific Gravity of Particle | I20: phi | J20: φ | K20: 1 | M20: Particle Shape Factor
A21: rhop | B21: ρp | C21: =S*1.94 -> 5.141 | D21: slug/ft3 | E21: Density of Particle | I21: Re | J21: Re | K21: =phi*rhop*C28*Dp/(muf) -> 0.00012913767 | M21: Reynolds Number
A22: rhof | B22: ρf | C22: 1.94 | D22: slug/ft3 | E22: Density of Fluid | I22: Zone | J22: Zone | K22: =IF(Re<0.1,"Laminar",IF(Re>1000,"Turbulant","Transition")) -> Laminar | M22: Flow Type
A23: g | B23: g | C23: 32.2 | D23: ft/s2 | E23: acceleration of gravity | I23: CD | J23: CD | K23: =IF(Zone="Laminar",24/Re,IF(Zone="Transition",18.5/Re^0.6,0.4)) -> 185848.17 | M23: Drag Coefficient
C24: 0.007 | D24: mm | E24: Particle Diameter | I24: CDa | J24: CD alt | K24: =24/Re+3/SQRT(Re)+0.34 -> 186112.51 | M24: Alternative Drag Coefficient
A25: dp | B25: Dp | C25: =C24/25.4/12 -> 2.2965879e-05 | D25: ft | E25: Particle Diameter | J25: Use | K25: CD
A26: T | B26: T | C26: 40 | D26: F | E26: Water Temperature
A27: muf | B27: μf | C27: =VLOOKUP(VLOOKUP(T,'Viscosity Table'!A2:A15,1,TRUE),'Viscosity Table'!$A$2:$C$15,3,FALSE)+(T-VLOOKUP(T,'Viscosity Table'!A2:A15,1,TRUE))*(VLOOKUP(INDEX('Viscosity Table'!$A$2:$A$15,MATCH(VLOOKUP(T,'Viscosity Table'!A2:A15,1,TRUE),'Viscosity Table'!A2:A15,0)+1,1),'Viscosity Table'!$A$2:$C$15,3,FALSE)-VLOOKUP(VLOOKUP(T,'Viscosity Table'!A2:A15,1,TRUE),'Viscosity Table'!$A$2:$C$15,3,FALSE))/(INDEX('Viscosity Table'!$A$2:$A$15,MATCH(VLOOKUP(T,'Viscosity Table'!A2:A15,1,TRUE),'Viscosity Table'!A2:A15,0)+1,1)-VLOOKUP(T,'Viscosity Table'!A2:A15,1,TRUE)) -> 3.228e-05 | D27: lb-s/ft2 | E27: Water Dynamic Viscosity
A28: ut | B28: ut or vs | C28: =g*(rhof-rhop)*Dp^2/(18*muf) -> 9.3562468e-05 | D28: ft/s | E28: Terminal Settling Velocity | I28: Iterative Procecure
I29: ut (previous) | J29: Re | K29: CD | L29: ut | M29: Diff
I30: ft/s | L30: ft/s | M30: ft/s
I31: =C28 -> 9.3562468e-05 | J31: =Re -> 0.00012913767 | K31: =IF(K25="CD",K23,K24) -> 185848.17 | L31: =SQRT(4/3*(rhof-rhop)/rhop*(g*Dp)/(phi*K31)) -> 9.3562468e-05 | M31: =I31-L31 -> 0
I32: =L31 -> 9.3562468e-05 | J32: =phi*rhop*I32*Dp/(muf) -> 0.00012913767 | K32: =IF($K$25="CD",IF(J32<0.1,24/J32,IF(J32>1000,0.4,18.5/J32^0.6)),24/J32+3/SQRT(J32)+0.34) -> 185848.17 | L32: =SQRT(4/3*(rhof-rhop)/rhop*(g*Dp)/(phi*K32)) -> 9.3562468e-05 | M32: =I32-L32 -> 0
I33: =L32 -> 9.3562468e-05 | J33: =phi*rhop*I33*Dp/(muf) -> 0.00012913767 | K33: =IF($K$25="CD",IF(J33<0.1,24/J33,IF(J33>1000,0.4,18.5/J33^0.6)),24/J33+3/SQRT(J33)+0.34) -> 185848.17 | L33: =SQRT(4/3*(rhof-rhop)/rhop*(g*Dp)/(phi*K33)) -> 9.3562468e-05 | M33: =I33-L33 -> 0
I34: =L33 -> 9.3562468e-05 | J34: =phi*rhop*I34*Dp/(muf) -> 0.00012913767 | K34: =IF($K$25="CD",IF(J34<0.1,24/J34,IF(J34>1000,0.4,18.5/J34^0.6)),24/J34+3/SQRT(J34)+0.34) -> 185848.17 | L34: =SQRT(4/3*(rhof-rhop)/rhop*(g*Dp)/(phi*K34)) -> 9.3562468e-05 | M34: =I34-L34 -> 0
I35: =L34 -> 9.3562468e-05 | J35: =phi*rhop*I35*Dp/(muf) -> 0.00012913767 | K35: =IF($K$25="CD",IF(J35<0.1,24/J35,IF(J35>1000,0.4,18.5/J35^0.6)),24/J35+3/SQRT(J35)+0.34) -> 185848.17 | L35: =SQRT(4/3*(rhof-rhop)/rhop*(g*Dp)/(phi*K35)) -> 9.3562468e-05 | M35: =I35-L35 -> 0
I36: =L35 -> 9.3562468e-05 | J36: =phi*rhop*I36*Dp/(muf) -> 0.00012913767 | K36: =IF($K$25="CD",IF(J36<0.1,24/J36,IF(J36>1000,0.4,18.5/J36^0.6)),24/J36+3/SQRT(J36)+0.34) -> 185848.17 | L36: =SQRT(4/3*(rhof-rhop)/rhop*(g*Dp)/(phi*K36)) -> 9.3562468e-05 | M36: =I36-L36 -> 0
I37: =L36 -> 9.3562468e-05 | J37: =phi*rhop*I37*Dp/(muf) -> 0.00012913767 | K37: =IF($K$25="CD",IF(J37<0.1,24/J37,IF(J37>1000,0.4,18.5/J37^0.6)),24/J37+3/SQRT(J37)+0.34) -> 185848.17 | L37: =SQRT(4/3*(rhof-rhop)/rhop*(g*Dp)/(phi*K37)) -> 9.3562468e-05 | M37: =I37-L37 -> 0
B39: Min Percent | C39: {=MIN(IF('Material Gradations'!$M$4:$M$23>0,'Material Gradations'!$M$4:$M$23))} -> 0.021367521
B40: Max Percent | C40: {=MAX(IF('Material Gradations'!$M$4:$M$23>0,'Material Gradations'!$M$4:$M$23))} -> 0.74672486 | I40: FINAL TERMINAL SETTLING VELOCITY | L40: =L37 -> 9.3562468e-05 | M40: ft/s
W41: Iteration 1 | AB41: Iteration 2 | AG41: Iteration 3 | AL41: Iteration 4 | AQ41: Iteration 5 | AV41: Iteration 6
B42: Percent of Total Mass | C42: Particle Size (mm) | D42: Terminal Settling Velocity (ft/s) | E42: Vertical Fall in Tank (ft) | F42: Collection Efficiency | G42: Particles Passing System | W42: ut1 | X42: Re | Y42: CD | Z42: ut | AA42: Diff | AB42: ut2 | AC42: Re | AD42: CD | AE42: ut | AF42: Diff | AG42: ut3 | AH42: Re | AI42: CD | AJ42: ut | AK42: Diff | AL42: ut4 | AM42: Re | AN42: CD | AO42: ut | AP42: Diff | AQ42: ut5 | AR42: Re | AS42: CD | AT42: ut | AU42: Diff | AV42: ut6 | AW42: Re | AX42: CD | AY42: ut | AZ42: Diff | BA42: x0 | BB42: x1 | BC42: y0 | BD42: y1
B43: 0 | F43: 1 | G43: 0 | V43: dp, ft | BE43: =IFERROR(B43-B41,B43) -> 0
B44: =C39 -> 0.021367521 | C44: =BC44+(B44-BA44)*(BD44-BC44)/(BB44-BA44) -> 0.25 | D44: =AY44 -> 0.08664627 | E44: =IF((D44/vx)*L>D,D,(D44/vx)*L) -> 2 | F44: =E44/D -> 1 | G44: =1-F44 -> 0 | V44: =CONVERT(C44,"mm","ft") -> 0.00082020997 | W44: =g*(rhof-rhop)*$V44^2/(18*muf) -> 0.11933988 | X44: =phi*rhop*W44*$V44/(muf) -> 5.8827292 | Y44: =IF($K$25="CD",IF(X44<0.1,24/X44,IF(X44>1000,0.4,18.5/X44^0.6)),24/X44+3/SQRT(X44)+0.34) -> 6.3888753 | Z44: =SQRT(4/3*(rhof-rhop)/rhop*(g*$V44)/(phi*Y44)) -> 0.095365127 | AA44: =W44-Z44 -> 0.023974756 | AB44: =Z44 -> 0.095365127 | AC44: =phi*rhop*AB44*$V44/(muf) -> 4.7009198 | AD44: =IF($K$25="CD",IF(AC44<0.1,24/AC44,IF(AC44>1000,0.4,18.5/AC44^0.6)),24/AC44+3/SQRT(AC44)+0.34) -> 7.3090684 | AE44: =SQRT(4/3*(rhof-rhop)/rhop*(g*$V44)/(phi*AD44)) -> 0.089160149 | AF44: =AB44-AE44 -> 0.0062049777 | AG44: =AE44 -> 0.089160149 | AH44: =phi*rhop*AG44*$V44/(muf) -> 4.3950522 | AI44: =IF($K$25="CD",IF(AH44<0.1,24/AH44,IF(AH44>1000,0.4,18.5/AH44^0.6)),24/AH44+3/SQRT(AH44)+0.34) -> 7.6101516 | AJ44: =SQRT(4/3*(rhof-rhop)/rhop*(g*$V44)/(phi*AI44)) -> 0.087378613 | AK44: =AG44-AJ44 -> 0.0017815365 | AL44: =AJ44 -> 0.087378613 | AM44: =phi*rhop*AL44*$V44/(muf) -> 4.3072333 | AN44: =IF($K$25="CD",IF(AM44<0.1,24/AM44,IF(AM44>1000,0.4,18.5/AM44^0.6)),24/AM44+3/SQRT(AM44)+0.34) -> 7.7028722 | AO44: =SQRT(4/3*(rhof-rhop)/rhop*(g*$V44)/(phi*AN44)) -> 0.086851126 | AP44: =AL44-AO44 -> 0.00052748681 | AQ44: =AO44 -> 0.086851126 | AR44: =phi*rhop*AQ44*$V44/(muf) -> 4.2812314 | AS44: =IF($K$25="CD",IF(AR44<0.1,24/AR44,IF(AR44>1000,0.4,18.5/AR44^0.6)),24/AR44+3/SQRT(AR44)+0.34) -> 7.730908 | AT44: =SQRT(4/3*(rhof-rhop)/rhop*(g*$V44)/(phi*AS44)) -> 0.086693502 | AU44: =AQ44-AT44 -> 0.00015762422 | AV44: =AT44 -> 0.086693502 | AW44: =phi*rhop*AV44*$V44/(muf) -> 4.2734615 | AX44: =IF($K$25="CD",IF(AW44<0.1,24/AW44,IF(AW44>1000,0.4,18.5/AW44^0.6)),24/AW44+3/SQRT(AW44)+0.34) -> 7.7393387 | AY44: =SQRT(4/3*(rhof-rhop)/rhop*(g*$V44)/(phi*AX44)) -> 0.08664627 | AZ44: =AV44-AY44 -> 4.7231459e-05 | BA44: =VLOOKUP(B44,'Material Gradations'!$M$4:$M$23,1,TRUE) -> 0.021367521 | BB44: =INDEX('Material Gradations'!$M$4:$M$23,MATCH(BA44,'Material Gradations'!$M$4:$M$23,0)+1,1) -> 0.076923077 | BC44: =INDEX('Material Gradations'!$K$4:$K$23,MATCH(Vs!BA44,'Material Gradations'!$M$4:$M$23,0),1) -> 0.25 | BD44: =INDEX('Material Gradations'!$K$4:$K$23,MATCH(Vs!BB44,'Material Gradations'!$M$4:$M$23,0),1) -> 0.177 | BE44: =IFERROR(B44-B42,B44) -> 0.021367521
B45: 0.64 | C45: =BC45+(B45-BA45)*(BD45-BC45)/(BB45-BA45) -> 0.0072388906 | D45: =AY45 -> 0.00010005749 | E45: =IF((D45/vx)*L>D,D,(D45/vx)*L) -> 2 | F45: =E45/D -> 1 | G45: =1-F45 -> 0 | V45: =CONVERT(C45,"mm","ft") -> 2.3749641e-05 | W45: =g*(rhof-rhop)*$V45^2/(18*muf) -> 0.00010005749 | X45: =phi*rhop*W45*$V45/(muf) -> 0.00014281534 | Y45: =IF($K$25="CD",IF(X45<0.1,24/X45,IF(X45>1000,0.4,18.5/X45^0.6)),24/X45+3/SQRT(X45)+0.34) -> 168049.17 | Z45: =SQRT(4/3*(rhof-rhop)/rhop*(g*$V45)/(phi*Y45)) -> 0.00010005749 | AA45: =W45-Z45 -> 0 | AB45: =Z45 -> 0.00010005749 | AC45: =phi*rhop*AB45*$V45/(muf) -> 0.00014281534 | AD45: =IF($K$25="CD",IF(AC45<0.1,24/AC45,IF(AC45>1000,0.4,18.5/AC45^0.6)),24/AC45+3/SQRT(AC45)+0.34) -> 168049.17 | AE45: =SQRT(4/3*(rhof-rhop)/rhop*(g*$V45)/(phi*AD45)) -> 0.00010005749 | AF45: =AB45-AE45 -> 0 | AG45: =AE45 -> 0.00010005749 | AH45: =phi*rhop*AG45*$V45/(muf) -> 0.00014281534 | AI45: =IF($K$25="CD",IF(AH45<0.1,24/AH45,IF(AH45>1000,0.4,18.5/AH45^0.6)),24/AH45+3/SQRT(AH45)+0.34) -> 168049.17 | AJ45: =SQRT(4/3*(rhof-rhop)/rhop*(g*$V45)/(phi*AI45)) -> 0.00010005749 | AK45: =AG45-AJ45 -> 0 | AL45: =AJ45 -> 0.00010005749 | AM45: =phi*rhop*AL45*$V45/(muf) -> 0.00014281534 | AN45: =IF($K$25="CD",IF(AM45<0.1,24/AM45,IF(AM45>1000,0.4,18.5/AM45^0.6)),24/AM45+3/SQRT(AM45)+0.34) -> 168049.17 | AO45: =SQRT(4/3*(rhof-rhop)/rhop*(g*$V45)/(phi*AN45)) -> 0.00010005749 | AP45: =AL45-AO45 -> 0 | AQ45: =AO45 -> 0.00010005749 | AR45: =phi*rhop*AQ45*$V45/(muf) -> 0.00014281534 | AS45: =IF($K$25="CD",IF(AR45<0.1,24/AR45,IF(AR45>1000,0.4,18.5/AR45^0.6)),24/AR45+3/SQRT(AR45)+0.34) -> 168049.17 | AT45: =SQRT(4/3*(rhof-rhop)/rhop*(g*$V45)/(phi*AS45)) -> 0.00010005749 | AU45: =AQ45-AT45 -> 0 | AV45: =AT45 -> 0.00010005749 | AW45: =phi*rhop*AV45*$V45/(muf) -> 0.00014281534 | AX45: =IF($K$25="CD",IF(AW45<0.1,24/AW45,IF(AW45>1000,0.4,18.5/AW45^0.6)),24/AW45+3/SQRT(AW45)+0.34) -> 168049.17 | AY45: =SQRT(4/3*(rhof-rhop)/rhop*(g*$V45)/(phi*AX45)) -> 0.00010005749 | AZ45: =AV45-AY45 -> 0 | BA45: =VLOOKUP(B45,'Material Gradations'!$M$4:$M$23,1,TRUE) -> 0.5856 | BB45: =INDEX('Material Gradations'!$M$4:$M$23,MATCH(BA45,'Material Gradations'!$M$4:$M$23,0)+1,1) -> 0.65462481 | BC45: =INDEX('Material Gradations'!$K$4:$K$23,MATCH(Vs!BA45,'Material Gradations'!$M$4:$M$23,0),1) -> 0.0092913629 | BD45: =INDEX('Material Gradations'!$K$4:$K$23,MATCH(Vs!BB45,'Material Gradations'!$M$4:$M$23,0),1) -> 0.006687107 | BE45: =IFERROR(B45-B44,B45) -> 0.61863248
B46: 0.65 | C46: =BC46+(B46-BA46)*(BD46-BC46)/(BB46-BA46) -> 0.0068615979 | D46: =AY46 -> 8.989926e-05 | E46: =IF((D46/vx)*L>D,D,(D46/vx)*L) -> 1.9529151 | F46: =E46/D -> 0.97645753 | G46: =1-F46 -> 0.023542467 | V46: =CONVERT(C46,"mm","ft") -> 2.2511804e-05 | W46: =g*(rhof-rhop)*$V46^2/(18*muf) -> 8.989926e-05 | X46: =phi*rhop*W46*$V46/(muf) -> 0.0001216283 | Y46: =IF($K$25="CD",IF(X46<0.1,24/X46,IF(X46>1000,0.4,18.5/X46^0.6)),24/X46+3/SQRT(X46)+0.34) -> 197322.51 | Z46: =SQRT(4/3*(rhof-rhop)/rhop*(g*$V46)/(phi*Y46)) -> 8.989926e-05 | AA46: =W46-Z46 -> 0 | AB46: =Z46 -> 8.989926e-05 | AC46: =phi*rhop*AB46*$V46/(muf) -> 0.0001216283 | AD46: =IF($K$25="CD",IF(AC46<0.1,24/AC46,IF(AC46>1000,0.4,18.5/AC46^0.6)),24/AC46+3/SQRT(AC46)+0.34) -> 197322.51 | AE46: =SQRT(4/3*(rhof-rhop)/rhop*(g*$V46)/(phi*AD46)) -> 8.989926e-05 | AF46: =AB46-AE46 -> 0 | AG46: =AE46 -> 8.989926e-05 | AH46: =phi*rhop*AG46*$V46/(muf) -> 0.0001216283 | AI46: =IF($K$25="CD",IF(AH46<0.1,24/AH46,IF(AH46>1000,0.4,18.5/AH46^0.6)),24/AH46+3/SQRT(AH46)+0.34) -> 197322.51 | AJ46: =SQRT(4/3*(rhof-rhop)/rhop*(g*$V46)/(phi*AI46)) -> 8.989926e-05 | AK46: =AG46-AJ46 -> 0 | AL46: =AJ46 -> 8.989926e-05 | AM46: =phi*rhop*AL46*$V46/(muf) -> 0.0001216283 | AN46: =IF($K$25="CD",IF(AM46<0.1,24/AM46,IF(AM46>1000,0.4,18.5/AM46^0.6)),24/AM46+3/SQRT(AM46)+0.34) -> 197322.51 | AO46: =SQRT(4/3*(rhof-rhop)/rhop*(g*$V46)/(phi*AN46)) -> 8.989926e-05 | AP46: =AL46-AO46 -> 0 | AQ46: =AO46 -> 8.989926e-05 | AR46: =phi*rhop*AQ46*$V46/(muf) -> 0.0001216283 | AS46: =IF($K$25="CD",IF(AR46<0.1,24/AR46,IF(AR46>1000,0.4,18.5/AR46^0.6)),24/AR46+3/SQRT(AR46)+0.34) -> 197322.51 | AT46: =SQRT(4/3*(rhof-rhop)/rhop*(g*$V46)/(phi*AS46)) -> 8.989926e-05 | AU46: =AQ46-AT46 -> 0 | AV46: =AT46 -> 8.989926e-05 | AW46: =phi*rhop*AV46*$V46/(muf) -> 0.0001216283 | AX46: =IF($K$25="CD",IF(AW46<0.1,24/AW46,IF(AW46>1000,0.4,18.5/AW46^0.6)),24/AW46+3/SQRT(AW46)+0.34) -> 197322.51 | AY46: =SQRT(4/3*(rhof-rhop)/rhop*(g*$V46)/(phi*AX46)) -> 8.989926e-05 | AZ46: =AV46-AY46 -> 0 | BA46: =VLOOKUP(B46,'Material Gradations'!$M$4:$M$23,1,TRUE) -> 0.5856 | BB46: =INDEX('Material Gradations'!$M$4:$M$23,MATCH(BA46,'Material Gradations'!$M$4:$M$23,0)+1,1) -> 0.65462481 | BC46: =INDEX('Material Gradations'!$K$4:$K$23,MATCH(Vs!BA46,'Material Gradations'!$M$4:$M$23,0),1) -> 0.0092913629 | BD46: =INDEX('Material Gradations'!$K$4:$K$23,MATCH(Vs!BB46,'Material Gradations'!$M$4:$M$23,0),1) -> 0.006687107 | BE46: =IFERROR(B46-B45,B46) -> 0.01
B47: 0.66 | C47: =BC47+(B47-BA47)*(BD47-BC47)/(BB47-BA47) -> 0.0064211002 | D47: =AY47 -> 7.8727142e-05 | E47: =IF((D47/vx)*L>D,D,(D47/vx)*L) -> 1.710219 | F47: =E47/D -> 0.85510949 | G47: =1-F47 -> 0.14489051 | V47: =CONVERT(C47,"mm","ft") -> 2.1066602e-05 | W47: =g*(rhof-rhop)*$V47^2/(18*muf) -> 7.8727142e-05 | X47: =phi*rhop*W47*$V47/(muf) -> 9.9675213e-05 | Y47: =IF($K$25="CD",IF(X47<0.1,24/X47,IF(X47>1000,0.4,18.5/X47^0.6)),24/X47+3/SQRT(X47)+0.34) -> 240782.03 | Z47: =SQRT(4/3*(rhof-rhop)/rhop*(g*$V47)/(phi*Y47)) -> 7.8727142e-05 | AA47: =W47-Z47 -> 0 | AB47: =Z47 -> 7.8727142e-05 | AC47: =phi*rhop*AB47*$V47/(muf) -> 9.9675213e-05 | AD47: =IF($K$25="CD",IF(AC47<0.1,24/AC47,IF(AC47>1000,0.4,18.5/AC47^0.6)),24/AC47+3/SQRT(AC47)+0.34) -> 240782.03 | AE47: =SQRT(4/3*(rhof-rhop)/rhop*(g*$V47)/(phi*AD47)) -> 7.8727142e-05 | AF47: =AB47-AE47 -> 0 | AG47: =AE47 -> 7.8727142e-05 | AH47: =phi*rhop*AG47*$V47/(muf) -> 9.9675213e-05 | AI47: =IF($K$25="CD",IF(AH47<0.1,24/AH47,IF(AH47>1000,0.4,18.5/AH47^0.6)),24/AH47+3/SQRT(AH47)+0.34) -> 240782.03 | AJ47: =SQRT(4/3*(rhof-rhop)/rhop*(g*$V47)/(phi*AI47)) -> 7.8727142e-05 | AK47: =AG47-AJ47 -> 0 | AL47: =AJ47 -> 7.8727142e-05 | AM47: =phi*rhop*AL47*$V47/(muf) -> 9.9675213e-05 | AN47: =IF($K$25="CD",IF(AM47<0.1,24/AM47,IF(AM47>1000,0.4,18.5/AM47^0.6)),24/AM47+3/SQRT(AM47)+0.34) -> 240782.03 | AO47: =SQRT(4/3*(rhof-rhop)/rhop*(g*$V47)/(phi*AN47)) -> 7.8727142e-05 | AP47: =AL47-AO47 -> 0 | AQ47: =AO47 -> 7.8727142e-05 | AR47: =phi*rhop*AQ47*$V47/(muf) -> 9.9675213e-05 | AS47: =IF($K$25="CD",IF(AR47<0.1,24/AR47,IF(AR47>1000,0.4,18.5/AR47^0.6)),24/AR47+3/SQRT(AR47)+0.34) -> 240782.03 | AT47: =SQRT(4/3*(rhof-rhop)/rhop*(g*$V47)/(phi*AS47)) -> 7.8727142e-05 | AU47: =AQ47-AT47 -> 0 | AV47: =AT47 -> 7.8727142e-05 | AW47: =phi*rhop*AV47*$V47/(muf) -> 9.9675213e-05 | AX47: =IF($K$25="CD",IF(AW47<0.1,24/AW47,IF(AW47>1000,0.4,18.5/AW47^0.6)),24/AW47+3/SQRT(AW47)+0.34) -> 240782.03 | AY47: =SQRT(4/3*(rhof-rhop)/rhop*(g*$V47)/(phi*AX47)) -> 7.8727142e-05 | AZ47: =AV47-AY47 -> 0 | BA47: =VLOOKUP(B47,'Material Gradations'!$M$4:$M$23,1,TRUE) -> 0.65462481 | BB47: =INDEX('Material Gradations'!$M$4:$M$23,MATCH(BA47,'Material Gradations'!$M$4:$M$23,0)+1,1) -> 0.72369985 | BC47: =INDEX('Material Gradations'!$K$4:$K$23,MATCH(Vs!BA47,'Material Gradations'!$M$4:$M$23,0),1) -> 0.006687107 | BD47: =INDEX('Material Gradations'!$K$4:$K$23,MATCH(Vs!BB47,'Material Gradations'!$M$4:$M$23,0),1) -> 0.0032687263 | BE47: =IFERROR(B47-B46,B47) -> 0.01
B48: 0.67 | C48: =BC48+(B48-BA48)*(BD48-BC48)/(BB48-BA48) -> 0.0059262209 | D48: =AY48 -> 6.7059646e-05 | E48: =IF((D48/vx)*L>D,D,(D48/vx)*L) -> 1.4567616 | F48: =E48/D -> 0.72838082 | G48: =1-F48 -> 0.27161918 | V48: =CONVERT(C48,"mm","ft") -> 1.9442982e-05 | W48: =g*(rhof-rhop)*$V48^2/(18*muf) -> 6.7059646e-05 | X48: =phi*rhop*W48*$V48/(muf) -> 7.8359622e-05 | Y48: =IF($K$25="CD",IF(X48<0.1,24/X48,IF(X48>1000,0.4,18.5/X48^0.6)),24/X48+3/SQRT(X48)+0.34) -> 306280.19 | Z48: =SQRT(4/3*(rhof-rhop)/rhop*(g*$V48)/(phi*Y48)) -> 6.7059646e-05 | AA48: =W48-Z48 -> 0 | AB48: =Z48 -> 6.7059646e-05 | AC48: =phi*rhop*AB48*$V48/(muf) -> 7.8359622e-05 | AD48: =IF($K$25="CD",IF(AC48<0.1,24/AC48,IF(AC48>1000,0.4,18.5/AC48^0.6)),24/AC48+3/SQRT(AC48)+0.34) -> 306280.19 | AE48: =SQRT(4/3*(rhof-rhop)/rhop*(g*$V48)/(phi*AD48)) -> 6.7059646e-05 | AF48: =AB48-AE48 -> 0 | AG48: =AE48 -> 6.7059646e-05 | AH48: =phi*rhop*AG48*$V48/(muf) -> 7.8359622e-05 | AI48: =IF($K$25="CD",IF(AH48<0.1,24/AH48,IF(AH48>1000,0.4,18.5/AH48^0.6)),24/AH48+3/SQRT(AH48)+0.34) -> 306280.19 | AJ48: =SQRT(4/3*(rhof-rhop)/rhop*(g*$V48)/(phi*AI48)) -> 6.7059646e-05 | AK48: =AG48-AJ48 -> 0 | AL48: =AJ48 -> 6.7059646e-05 | AM48: =phi*rhop*AL48*$V48/(muf) -> 7.8359622e-05 | AN48: =IF($K$25="CD",IF(AM48<0.1,24/AM48,IF(AM48>1000,0.4,18.5/AM48^0.6)),24/AM48+3/SQRT(AM48)+0.34) -> 306280.19 | AO48: =SQRT(4/3*(rhof-rhop)/rhop*(g*$V48)/(phi*AN48)) -> 6.7059646e-05 | AP48: =AL48-AO48 -> 0 | AQ48: =AO48 -> 6.7059646e-05 | AR48: =phi*rhop*AQ48*$V48/(muf) -> 7.8359622e-05 | AS48: =IF($K$25="CD",IF(AR48<0.1,24/AR48,IF(AR48>1000,0.4,18.5/AR48^0.6)),24/AR48+3/SQRT(AR48)+0.34) -> 306280.19 | AT48: =SQRT(4/3*(rhof-rhop)/rhop*(g*$V48)/(phi*AS48)) -> 6.7059646e-05 | AU48: =AQ48-AT48 -> 0 | AV48: =AT48 -> 6.7059646e-05 | AW48: =phi*rhop*AV48*$V48/(muf) -> 7.8359622e-05 | AX48: =IF($K$25="CD",IF(AW48<0.1,24/AW48,IF(AW48>1000,0.4,18.5/AW48^0.6)),24/AW48+3/SQRT(AW48)+0.34) -> 306280.19 | AY48: =SQRT(4/3*(rhof-rhop)/rhop*(g*$V48)/(phi*AX48)) -> 6.7059646e-05 | AZ48: =AV48-AY48 -> 0 | BA48: =VLOOKUP(B48,'Material Gradations'!$M$4:$M$23,1,TRUE) -> 0.65462481 | BB48: =INDEX('Material Gradations'!$M$4:$M$23,MATCH(BA48,'Material Gradations'!$M$4:$M$23,0)+1,1) -> 0.72369985 | BC48: =INDEX('Material Gradations'!$K$4:$K$23,MATCH(Vs!BA48,'Material Gradations'!$M$4:$M$23,0),1) -> 0.006687107 | BD48: =INDEX('Material Gradations'!$K$4:$K$23,MATCH(Vs!BB48,'Material Gradations'!$M$4:$M$23,0),1) -> 0.0032687263 | BE48: =IFERROR(B48-B47,B48) -> 0.01
B49: 0.68 | C49: =BC49+(B49-BA49)*(BD49-BC49)/(BB49-BA49) -> 0.0054313416 | D49: =AY49 -> 5.6327415e-05 | E49: =IF((D49/vx)*L>D,D,(D49/vx)*L) -> 1.2236214 | F49: =E49/D -> 0.6118107 | G49: =1-F49 -> 0.3881893 | V49: =CONVERT(C49,"mm","ft") -> 1.7819362e-05 | W49: =g*(rhof-rhop)*$V49^2/(18*muf) -> 5.6327415e-05 | X49: =phi*rhop*W49*$V49/(muf) -> 6.0322618e-05 | Y49: =IF($K$25="CD",IF(X49<0.1,24/X49,IF(X49>1000,0.4,18.5/X49^0.6)),24/X49+3/SQRT(X49)+0.34) -> 397860.72 | Z49: =SQRT(4/3*(rhof-rhop)/rhop*(g*$V49)/(phi*Y49)) -> 5.6327415e-05 | AA49: =W49-Z49 -> 0 | AB49: =Z49 -> 5.6327415e-05 | AC49: =phi*rhop*AB49*$V49/(muf) -> 6.0322618e-05 | AD49: =IF($K$25="CD",IF(AC49<0.1,24/AC49,IF(AC49>1000,0.4,18.5/AC49^0.6)),24/AC49+3/SQRT(AC49)+0.34) -> 397860.72 | AE49: =SQRT(4/3*(rhof-rhop)/rhop*(g*$V49)/(phi*AD49)) -> 5.6327415e-05 | AF49: =AB49-AE49 -> 0 | AG49: =AE49 -> 5.6327415e-05 | AH49: =phi*rhop*AG49*$V49/(muf) -> 6.0322618e-05 | AI49: =IF($K$25="CD",IF(AH49<0.1,24/AH49,IF(AH49>1000,0.4,18.5/AH49^0.6)),24/AH49+3/SQRT(AH49)+0.34) -> 397860.72 | AJ49: =SQRT(4/3*(rhof-rhop)/rhop*(g*$V49)/(phi*AI49)) -> 5.6327415e-05 | AK49: =AG49-AJ49 -> 0 | AL49: =AJ49 -> 5.6327415e-05 | AM49: =phi*rhop*AL49*$V49/(muf) -> 6.0322618e-05 | AN49: =IF($K$25="CD",IF(AM49<0.1,24/AM49,IF(AM49>1000,0.4,18.5/AM49^0.6)),24/AM49+3/SQRT(AM49)+0.34) -> 397860.72 | AO49: =SQRT(4/3*(rhof-rhop)/rhop*(g*$V49)/(phi*AN49)) -> 5.6327415e-05 | AP49: =AL49-AO49 -> 0 | AQ49: =AO49 -> 5.6327415e-05 | AR49: =phi*rhop*AQ49*$V49/(muf) -> 6.0322618e-05 | AS49: =IF($K$25="CD",IF(AR49<0.1,24/AR49,IF(AR49>1000,0.4,18.5/AR49^0.6)),24/AR49+3/SQRT(AR49)+0.34) -> 397860.72 | AT49: =SQRT(4/3*(rhof-rhop)/rhop*(g*$V49)/(phi*AS49)) -> 5.6327415e-05 | AU49: =AQ49-AT49 -> 0 | AV49: =AT49 -> 5.6327415e-05 | AW49: =phi*rhop*AV49*$V49/(muf) -> 6.0322618e-05 | AX49: =IF($K$25="CD",IF(AW49<0.1,24/AW49,IF(AW49>1000,0.4,18.5/AW49^0.6)),24/AW49+3/SQRT(AW49)+0.34) -> 397860.72 | AY49: =SQRT(4/3*(rhof-rhop)/rhop*(g*$V49)/(phi*AX49)) -> 5.6327415e-05 | AZ49: =AV49-AY49 -> 0 | BA49: =VLOOKUP(B49,'Material Gradations'!$M$4:$M$23,1,TRUE) -> 0.65462481 | BB49: =INDEX('Material Gradations'!$M$4:$M$23,MATCH(BA49,'Material Gradations'!$M$4:$M$23,0)+1,1) -> 0.72369985 | BC49: =INDEX('Material Gradations'!$K$4:$K$23,MATCH(Vs!BA49,'Material Gradations'!$M$4:$M$23,0),1) -> 0.006687107 | BD49: =INDEX('Material Gradations'!$K$4:$K$23,MATCH(Vs!BB49,'Material Gradations'!$M$4:$M$23,0),1) -> 0.0032687263 | BE49: =IFERROR(B49-B48,B49) -> 0.01
B50: 0.69 | C50: =BC50+(B50-BA50)*(BD50-BC50)/(BB50-BA50) -> 0.0049364623 | D50: =AY50 -> 4.6530448e-05 | E50: =IF((D50/vx)*L>D,D,(D50/vx)*L) -> 1.0107982 | F50: =E50/D -> 0.50539911 | G50: =1-F50 -> 0.49460089 | V50: =CONVERT(C50,"mm","ft") -> 1.6195742e-05 | W50: =g*(rhof-rhop)*$V50^2/(18*muf) -> 4.6530448e-05 | X50: =phi*rhop*W50*$V50/(muf) -> 4.5290414e-05 | Y50: =IF($K$25="CD",IF(X50<0.1,24/X50,IF(X50>1000,0.4,18.5/X50^0.6)),24/X50+3/SQRT(X50)+0.34) -> 529913.46 | Z50: =SQRT(4/3*(rhof-rhop)/rhop*(g*$V50)/(phi*Y50)) -> 4.6530448e-05 | AA50: =W50-Z50 -> 0 | AB50: =Z50 -> 4.6530448e-05 | AC50: =phi*rhop*AB50*$V50/(muf) -> 4.5290414e-05 | AD50: =IF($K$25="CD",IF(AC50<0.1,24/AC50,IF(AC50>1000,0.4,18.5/AC50^0.6)),24/AC50+3/SQRT(AC50)+0.34) -> 529913.46 | AE50: =SQRT(4/3*(rhof-rhop)/rhop*(g*$V50)/(phi*AD50)) -> 4.6530448e-05 | AF50: =AB50-AE50 -> 0 | AG50: =AE50 -> 4.6530448e-05 | AH50: =phi*rhop*AG50*$V50/(muf) -> 4.5290414e-05 | AI50: =IF($K$25="CD",IF(AH50<0.1,24/AH50,IF(AH50>1000,0.4,18.5/AH50^0.6)),24/AH50+3/SQRT(AH50)+0.34) -> 529913.46 | AJ50: =SQRT(4/3*(rhof-rhop)/rhop*(g*$V50)/(phi*AI50)) -> 4.6530448e-05 | AK50: =AG50-AJ50 -> 0 | AL50: =AJ50 -> 4.6530448e-05 | AM50: =phi*rhop*AL50*$V50/(muf) -> 4.5290414e-05 | AN50: =IF($K$25="CD",IF(AM50<0.1,24/AM50,IF(AM50>1000,0.4,18.5/AM50^0.6)),24/AM50+3/SQRT(AM50)+0.34) -> 529913.46 | AO50: =SQRT(4/3*(rhof-rhop)/rhop*(g*$V50)/(phi*AN50)) -> 4.6530448e-05 | AP50: =AL50-AO50 -> 0 | AQ50: =AO50 -> 4.6530448e-05 | AR50: =phi*rhop*AQ50*$V50/(muf) -> 4.5290414e-05 | AS50: =IF($K$25="CD",IF(AR50<0.1,24/AR50,IF(AR50>1000,0.4,18.5/AR50^0.6)),24/AR50+3/SQRT(AR50)+0.34) -> 529913.46 | AT50: =SQRT(4/3*(rhof-rhop)/rhop*(g*$V50)/(phi*AS50)) -> 4.6530448e-05 | AU50: =AQ50-AT50 -> 0 | AV50: =AT50 -> 4.6530448e-05 | AW50: =phi*rhop*AV50*$V50/(muf) -> 4.5290414e-05 | AX50: =IF($K$25="CD",IF(AW50<0.1,24/AW50,IF(AW50>1000,0.4,18.5/AW50^0.6)),24/AW50+3/SQRT(AW50)+0.34) -> 529913.46 | AY50: =SQRT(4/3*(rhof-rhop)/rhop*(g*$V50)/(phi*AX50)) -> 4.6530448e-05 | AZ50: =AV50-AY50 -> 0 | BA50: =VLOOKUP(B50,'Material Gradations'!$M$4:$M$23,1,TRUE) -> 0.65462481 | BB50: =INDEX('Material Gradations'!$M$4:$M$23,MATCH(BA50,'Material Gradations'!$M$4:$M$23,0)+1,1) -> 0.72369985 | BC50: =INDEX('Material Gradations'!$K$4:$K$23,MATCH(Vs!BA50,'Material Gradations'!$M$4:$M$23,0),1) -> 0.006687107 | BD50: =INDEX('Material Gradations'!$K$4:$K$23,MATCH(Vs!BB50,'Material Gradations'!$M$4:$M$23,0),1) -> 0.0032687263 | BE50: =IFERROR(B50-B49,B50) -> 0.01
B51: 0.7 | C51: =BC51+(B51-BA51)*(BD51-BC51)/(BB51-BA51) -> 0.0044415829 | D51: =AY51 -> 3.7668744e-05 | E51: =IF((D51/vx)*L>D,D,(D51/vx)*L) -> 0.81829214 | F51: =E51/D -> 0.40914607 | G51: =1-F51 -> 0.59085393 | V51: =CONVERT(C51,"mm","ft") -> 1.4572122e-05 | W51: =g*(rhof-rhop)*$V51^2/(18*muf) -> 3.7668744e-05 | X51: =phi*rhop*W51*$V51/(muf) -> 3.2989228e-05 | Y51: =IF($K$25="CD",IF(X51<0.1,24/X51,IF(X51>1000,0.4,18.5/X51^0.6)),24/X51+3/SQRT(X51)+0.34) -> 727510.19 | Z51: =SQRT(4/3*(rhof-rhop)/rhop*(g*$V51)/(phi*Y51)) -> 3.7668744e-05 | AA51: =W51-Z51 -> 0 | AB51: =Z51 -> 3.7668744e-05 | AC51: =phi*rhop*AB51*$V51/(muf) -> 3.2989228e-05 | AD51: =IF($K$25="CD",IF(AC51<0.1,24/AC51,IF(AC51>1000,0.4,18.5/AC51^0.6)),24/AC51+3/SQRT(AC51)+0.34) -> 727510.19 | AE51: =SQRT(4/3*(rhof-rhop)/rhop*(g*$V51)/(phi*AD51)) -> 3.7668744e-05 | AF51: =AB51-AE51 -> 0 | AG51: =AE51 -> 3.7668744e-05 | AH51: =phi*rhop*AG51*$V51/(muf) -> 3.2989228e-05 | AI51: =IF($K$25="CD",IF(AH51<0.1,24/AH51,IF(AH51>1000,0.4,18.5/AH51^0.6)),24/AH51+3/SQRT(AH51)+0.34) -> 727510.19 | AJ51: =SQRT(4/3*(rhof-rhop)/rhop*(g*$V51)/(phi*AI51)) -> 3.7668744e-05 | AK51: =AG51-AJ51 -> 0 | AL51: =AJ51 -> 3.7668744e-05 | AM51: =phi*rhop*AL51*$V51/(muf) -> 3.2989228e-05 | AN51: =IF($K$25="CD",IF(AM51<0.1,24/AM51,IF(AM51>1000,0.4,18.5/AM51^0.6)),24/AM51+3/SQRT(AM51)+0.34) -> 727510.19 | AO51: =SQRT(4/3*(rhof-rhop)/rhop*(g*$V51)/(phi*AN51)) -> 3.7668744e-05 | AP51: =AL51-AO51 -> 0 | AQ51: =AO51 -> 3.7668744e-05 | AR51: =phi*rhop*AQ51*$V51/(muf) -> 3.2989228e-05 | AS51: =IF($K$25="CD",IF(AR51<0.1,24/AR51,IF(AR51>1000,0.4,18.5/AR51^0.6)),24/AR51+3/SQRT(AR51)+0.34) -> 727510.19 | AT51: =SQRT(4/3*(rhof-rhop)/rhop*(g*$V51)/(phi*AS51)) -> 3.7668744e-05 | AU51: =AQ51-AT51 -> 0 | AV51: =AT51 -> 3.7668744e-05 | AW51: =phi*rhop*AV51*$V51/(muf) -> 3.2989228e-05 | AX51: =IF($K$25="CD",IF(AW51<0.1,24/AW51,IF(AW51>1000,0.4,18.5/AW51^0.6)),24/AW51+3/SQRT(AW51)+0.34) -> 727510.19 | AY51: =SQRT(4/3*(rhof-rhop)/rhop*(g*$V51)/(phi*AX51)) -> 3.7668744e-05 | AZ51: =AV51-AY51 -> 0 | BA51: =VLOOKUP(B51,'Material Gradations'!$M$4:$M$23,1,TRUE) -> 0.65462481 | BB51: =INDEX('Material Gradations'!$M$4:$M$23,MATCH(BA51,'Material Gradations'!$M$4:$M$23,0)+1,1) -> 0.72369985 | BC51: =INDEX('Material Gradations'!$K$4:$K$23,MATCH(Vs!BA51,'Material Gradations'!$M$4:$M$23,0),1) -> 0.006687107 | BD51: =INDEX('Material Gradations'!$K$4:$K$23,MATCH(Vs!BB51,'Material Gradations'!$M$4:$M$23,0),1) -> 0.0032687263 | BE51: =IFERROR(B51-B50,B51) -> 0.01
B52: 0.71 | C52: =BC52+(B52-BA52)*(BD52-BC52)/(BB52-BA52) -> 0.0039467036 | D52: =AY52 -> 2.9742305e-05 | E52: =IF((D52/vx)*L>D,D,(D52/vx)*L) -> 0.64610315 | F52: =E52/D -> 0.32305157 | G52: =1-F52 -> 0.67694843 | V52: =CONVERT(C52,"mm","ft") -> 1.2948503e-05 | W52: =g*(rhof-rhop)*$V52^2/(18*muf) -> 2.9742305e-05 | X52: =phi*rhop*W52*$V52/(muf) -> 2.3145276e-05 | Y52: =IF($K$25="CD",IF(X52<0.1,24/X52,IF(X52>1000,0.4,18.5/X52^0.6)),24/X52+3/SQRT(X52)+0.34) -> 1036928.6 | Z52: =SQRT(4/3*(rhof-rhop)/rhop*(g*$V52)/(phi*Y52)) -> 2.9742305e-05 | AA52: =W52-Z52 -> 0 | AB52: =Z52 -> 2.9742305e-05 | AC52: =phi*rhop*AB52*$V52/(muf) -> 2.3145276e-05 | AD52: =IF($K$25="CD",IF(AC52<0.1,24/AC52,IF(AC52>1000,0.4,18.5/AC52^0.6)),24/AC52+3/SQRT(AC52)+0.34) -> 1036928.6 | AE52: =SQRT(4/3*(rhof-rhop)/rhop*(g*$V52)/(phi*AD52)) -> 2.9742305e-05 | AF52: =AB52-AE52 -> 0 | AG52: =AE52 -> 2.9742305e-05 | AH52: =phi*rhop*AG52*$V52/(muf) -> 2.3145276e-05 | AI52: =IF($K$25="CD",IF(AH52<0.1,24/AH52,IF(AH52>1000,0.4,18.5/AH52^0.6)),24/AH52+3/SQRT(AH52)+0.34) -> 1036928.6 | AJ52: =SQRT(4/3*(rhof-rhop)/rhop*(g*$V52)/(phi*AI52)) -> 2.9742305e-05 | AK52: =AG52-AJ52 -> 0 | AL52: =AJ52 -> 2.9742305e-05 | AM52: =phi*rhop*AL52*$V52/(muf) -> 2.3145276e-05 | AN52: =IF($K$25="CD",IF(AM52<0.1,24/AM52,IF(AM52>1000,0.4,18.5/AM52^0.6)),24/AM52+3/SQRT(AM52)+0.34) -> 1036928.6 | AO52: =SQRT(4/3*(rhof-rhop)/rhop*(g*$V52)/(phi*AN52)) -> 2.9742305e-05 | AP52: =AL52-AO52 -> 0 | AQ52: =AO52 -> 2.9742305e-05 | AR52: =phi*rhop*AQ52*$V52/(muf) -> 2.3145276e-05 | AS52: =IF($K$25="CD",IF(AR52<0.1,24/AR52,IF(AR52>1000,0.4,18.5/AR52^0.6)),24/AR52+3/SQRT(AR52)+0.34) -> 1036928.6 | AT52: =SQRT(4/3*(rhof-rhop)/rhop*(g*$V52)/(phi*AS52)) -> 2.9742305e-05 | AU52: =AQ52-AT52 -> 0 | AV52: =AT52 -> 2.9742305e-05 | AW52: =phi*rhop*AV52*$V52/(muf) -> 2.3145276e-05 | AX52: =IF($K$25="CD",IF(AW52<0.1,24/AW52,IF(AW52>1000,0.4,18.5/AW52^0.6)),24/AW52+3/SQRT(AW52)+0.34) -> 1036928.6 | AY52: =SQRT(4/3*(rhof-rhop)/rhop*(g*$V52)/(phi*AX52)) -> 2.9742305e-05 | AZ52: =AV52-AY52 -> 0 | BA52: =VLOOKUP(B52,'Material Gradations'!$M$4:$M$23,1,TRUE) -> 0.65462481 | BB52: =INDEX('Material Gradations'!$M$4:$M$23,MATCH(BA52,'Material Gradations'!$M$4:$M$23,0)+1,1) -> 0.72369985 | BC52: =INDEX('Material Gradations'!$K$4:$K$23,MATCH(Vs!BA52,'Material Gradations'!$M$4:$M$23,0),1) -> 0.006687107 | BD52: =INDEX('Material Gradations'!$K$4:$K$23,MATCH(Vs!BB52,'Material Gradations'!$M$4:$M$23,0),1) -> 0.0032687263 | BE52: =IFERROR(B52-B51,B52) -> 0.01
B53: 0.72 | C53: =BC53+(B53-BA53)*(BD53-BC53)/(BB53-BA53) -> 0.0034518243 | D53: =AY53 -> 2.2751129e-05 | E53: =IF((D53/vx)*L>D,D,(D53/vx)*L) -> 0.49423124 | F53: =E53/D -> 0.24711562 | G53: =1-F53 -> 0.75288438 | V53: =CONVERT(C53,"mm","ft") -> 1.1324883e-05 | W53: =g*(rhof-rhop)*$V53^2/(18*muf) -> 2.2751129e-05 | X53: =phi*rhop*W53*$V53/(muf) -> 1.5484774e-05 | Y53: =IF($K$25="CD",IF(X53<0.1,24/X53,IF(X53>1000,0.4,18.5/X53^0.6)),24/X53+3/SQRT(X53)+0.34) -> 1549909.6 | Z53: =SQRT(4/3*(rhof-rhop)/rhop*(g*$V53)/(phi*Y53)) -> 2.2751129e-05 | AA53: =W53-Z53 -> 0 | AB53: =Z53 -> 2.2751129e-05 | AC53: =phi*rhop*AB53*$V53/(muf) -> 1.5484774e-05 | AD53: =IF($K$25="CD",IF(AC53<0.1,24/AC53,IF(AC53>1000,0.4,18.5/AC53^0.6)),24/AC53+3/SQRT(AC53)+0.34) -> 1549909.6 | AE53: =SQRT(4/3*(rhof-rhop)/rhop*(g*$V53)/(phi*AD53)) -> 2.2751129e-05 | AF53: =AB53-AE53 -> 0 | AG53: =AE53 -> 2.2751129e-05 | AH53: =phi*rhop*AG53*$V53/(muf) -> 1.5484774e-05 | AI53: =IF($K$25="CD",IF(AH53<0.1,24/AH53,IF(AH53>1000,0.4,18.5/AH53^0.6)),24/AH53+3/SQRT(AH53)+0.34) -> 1549909.6 | AJ53: =SQRT(4/3*(rhof-rhop)/rhop*(g*$V53)/(phi*AI53)) -> 2.2751129e-05 | AK53: =AG53-AJ53 -> 0 | AL53: =AJ53 -> 2.2751129e-05 | AM53: =phi*rhop*AL53*$V53/(muf) -> 1.5484774e-05 | AN53: =IF($K$25="CD",IF(AM53<0.1,24/AM53,IF(AM53>1000,0.4,18.5/AM53^0.6)),24/AM53+3/SQRT(AM53)+0.34) -> 1549909.6 | AO53: =SQRT(4/3*(rhof-rhop)/rhop*(g*$V53)/(phi*AN53)) -> 2.2751129e-05 | AP53: =AL53-AO53 -> 0 | AQ53: =AO53 -> 2.2751129e-05 | AR53: =phi*rhop*AQ53*$V53/(muf) -> 1.5484774e-05 | AS53: =IF($K$25="CD",IF(AR53<0.1,24/AR53,IF(AR53>1000,0.4,18.5/AR53^0.6)),24/AR53+3/SQRT(AR53)+0.34) -> 1549909.6 | AT53: =SQRT(4/3*(rhof-rhop)/rhop*(g*$V53)/(phi*AS53)) -> 2.2751129e-05 | AU53: =AQ53-AT53 -> 0 | AV53: =AT53 -> 2.2751129e-05 | AW53: =phi*rhop*AV53*$V53/(muf) -> 1.5484774e-05 | AX53: =IF($K$25="CD",IF(AW53<0.1,24/AW53,IF(AW53>1000,0.4,18.5/AW53^0.6)),24/AW53+3/SQRT(AW53)+0.34) -> 1549909.6 | AY53: =SQRT(4/3*(rhof-rhop)/rhop*(g*$V53)/(phi*AX53)) -> 2.2751129e-05 | AZ53: =AV53-AY53 -> 0 | BA53: =VLOOKUP(B53,'Material Gradations'!$M$4:$M$23,1,TRUE) -> 0.65462481 | BB53: =INDEX('Material Gradations'!$M$4:$M$23,MATCH(BA53,'Material Gradations'!$M$4:$M$23,0)+1,1) -> 0.72369985 | BC53: =INDEX('Material Gradations'!$K$4:$K$23,MATCH(Vs!BA53,'Material Gradations'!$M$4:$M$23,0),1) -> 0.006687107 | BD53: =INDEX('Material Gradations'!$K$4:$K$23,MATCH(Vs!BB53,'Material Gradations'!$M$4:$M$23,0),1) -> 0.0032687263 | BE53: =IFERROR(B53-B52,B53) -> 0.01
B54: =C40-(C40-B53)*0.1 -> 0.74405238 | C54: =BC54+(B54-BA54)*(BD54-BC54)/(BB54-BA54) -> 0.0015955069 | D54: =AY54 -> 4.8607462e-06 | E54: =IF((D54/vx)*L>D,D,(D54/vx)*L) -> 0.1055918 | F54: =E54/D -> 0.052795899 | G54: =1-F54 -> 0.9472041 | V54: =CONVERT(C54,"mm","ft") -> 5.2346026e-06 | W54: =g*(rhof-rhop)*$V54^2/(18*muf) -> 4.8607462e-06 | X54: =phi*rhop*W54*$V54/(muf) -> 1.5291668e-06 | Y54: =IF($K$25="CD",IF(X54<0.1,24/X54,IF(X54>1000,0.4,18.5/X54^0.6)),24/X54+3/SQRT(X54)+0.34) -> 15694821 | Z54: =SQRT(4/3*(rhof-rhop)/rhop*(g*$V54)/(phi*Y54)) -> 4.8607462e-06 | AA54: =W54-Z54 -> 0 | AB54: =Z54 -> 4.8607462e-06 | AC54: =phi*rhop*AB54*$V54/(muf) -> 1.5291668e-06 | AD54: =IF($K$25="CD",IF(AC54<0.1,24/AC54,IF(AC54>1000,0.4,18.5/AC54^0.6)),24/AC54+3/SQRT(AC54)+0.34) -> 15694821 | AE54: =SQRT(4/3*(rhof-rhop)/rhop*(g*$V54)/(phi*AD54)) -> 4.8607462e-06 | AF54: =AB54-AE54 -> 0 | AG54: =AE54 -> 4.8607462e-06 | AH54: =phi*rhop*AG54*$V54/(muf) -> 1.5291668e-06 | AI54: =IF($K$25="CD",IF(AH54<0.1,24/AH54,IF(AH54>1000,0.4,18.5/AH54^0.6)),24/AH54+3/SQRT(AH54)+0.34) -> 15694821 | AJ54: =SQRT(4/3*(rhof-rhop)/rhop*(g*$V54)/(phi*AI54)) -> 4.8607462e-06 | AK54: =AG54-AJ54 -> 0 | AL54: =AJ54 -> 4.8607462e-06 | AM54: =phi*rhop*AL54*$V54/(muf) -> 1.5291668e-06 | AN54: =IF($K$25="CD",IF(AM54<0.1,24/AM54,IF(AM54>1000,0.4,18.5/AM54^0.6)),24/AM54+3/SQRT(AM54)+0.34) -> 15694821 | AO54: =SQRT(4/3*(rhof-rhop)/rhop*(g*$V54)/(phi*AN54)) -> 4.8607462e-06 | AP54: =AL54-AO54 -> 0 | AQ54: =AO54 -> 4.8607462e-06 | AR54: =phi*rhop*AQ54*$V54/(muf) -> 1.5291668e-06 | AS54: =IF($K$25="CD",IF(AR54<0.1,24/AR54,IF(AR54>1000,0.4,18.5/AR54^0.6)),24/AR54+3/SQRT(AR54)+0.34) -> 15694821 | AT54: =SQRT(4/3*(rhof-rhop)/rhop*(g*$V54)/(phi*AS54)) -> 4.8607462e-06 | AU54: =AQ54-AT54 -> 0 | AV54: =AT54 -> 4.8607462e-06 | AW54: =phi*rhop*AV54*$V54/(muf) -> 1.5291668e-06 | AX54: =IF($K$25="CD",IF(AW54<0.1,24/AW54,IF(AW54>1000,0.4,18.5/AW54^0.6)),24/AW54+3/SQRT(AW54)+0.34) -> 15694821 | AY54: =SQRT(4/3*(rhof-rhop)/rhop*(g*$V54)/(phi*AX54)) -> 4.8607462e-06 | AZ54: =AV54-AY54 -> 0 | BA54: =VLOOKUP(B54,'Material Gradations'!$M$4:$M$23,1,TRUE) -> 0.72369985 | BB54: =INDEX('Material Gradations'!$M$4:$M$23,MATCH(BA54,'Material Gradations'!$M$4:$M$23,0)+1,1) -> 0.74672486 | BC54: =INDEX('Material Gradations'!$K$4:$K$23,MATCH(Vs!BA54,'Material Gradations'!$M$4:$M$23,0),1) -> 0.0032687263 | BD54: =INDEX('Material Gradations'!$K$4:$K$23,MATCH(Vs!BB54,'Material Gradations'!$M$4:$M$23,0),1) -> 0.0013757967 | BE54: =IFERROR(B54-B53,B54) -> 0.024052378
B55: 1 | F55: 0 | G55: 1 | BE55: =IFERROR(B55-B54,B55) -> 0.25594762
B56: Total Collection Efficiency | E56: =SUMPRODUCT(F43:F55,BE43:BE55) -> 0.68783458
B57: Percent total particles passing system | E57: =SUMPRODUCT(G43:G55,BE43:BE55) -> 0.31216542
A59: Step 2: Determine Surface Dimensions of Settling Tank
B60: Q | C60: 80 | D60: gpm | E60: Design Flow through tank
A61: Q | B61: Q | C61: =C60/448.83 -> 0.1782412 | D61: cfs
A62: v0 | B62: v0 | C62: =L40 -> 9.3562468e-05 | D62: ft/s | E62: Design Overflow Rate | G62: =IF(C62>L40,"Overflow Rate should be less than Terminal Settling Velocity","")
A63: Amin | B63: Amin | C63: =Q/v0 -> 1905.0503 | D63: ft2 | E63: Minimum Tank Surface Area
A64: L | B64: L | C64: 88 | D64: ft | E64: Length of Settling Zone
A65: W | B65: W | C65: 22 | D65: ft | E65: Width of Settling Zone
A66: A | B66: A | C66: =L*W -> 1936 | D66: ft2 | E66: Tank Design Surface Area | G66: =IF(A<Amin,"Area must be Greater Than Amin","")
A67: D | B67: D | C67: 2 | D67: ft | E67: Depth of Settling Zone
A68: vx | B68: vx | C68: =Q/(W*D) -> 0.0040509365 | D68: ft/s | E68: Actual Horizontal Velocity
A69: tone | B69: t1 | C69: =L/vx -> 21723.372 | D69: s | E69: Transit Time (horizontal)
A70: dy | B70: dy | C70: =IF(A<Amin,0,MIN(tone*L40,D)) -> 2 | D70: ft | E70: Particle Drop from beginning to end of tank
A71: ttwo | B71: t2 | C71: =IF(dy=D,D/L40,"N/A") -> 21376.093 | D71: s | E71: Time for Particle to drop to bottom
A72: dx | B72: dx | C72: =IF(dist="N/A",L,vx*dist) -> 86.593194 | D72: ft | E72: If drop is to bottom, distance it travels
W73: x | X73: y
U74: left | V74: bot | W74: 0.1 | X74: 0.1
U75: left | V75: top | W75: 0.1 | X75: =D -> 2
U76: right | V76: bot | W76: =L -> 88 | X76: 0.1
U77: right | V77: top | W77: =W76 -> 88 | X77: =X75 -> 2
U78: top | V78: left | W78: 0.1 | X78: =X75 -> 2
U79: top | V79: right | W79: =W77 -> 88 | X79: =X78 -> 2
U80: bot | V80: left | W80: 0.1 | X80: 0.1
U81: bot | V81: right | W81: =W79 -> 88 | X81: 0.1
A83: Step 3: Determine Sludge Depth | W83: x | X83: y
A84: Average Flow | C84: =C60 -> 80 | D84: gpm | V84: Start | W84: 0.1 | X84: =D -> 2
A85: Operation: | C85: 16 | D85: hours/day
A86: Daily Flow | C86: =C84*60*C85 -> 76800 | D86: gal./day
A87: Operation: | C87: 7 | D87: days/week | V87: end | W87: =C72 -> 86.593194 | X87: =D-dy+0.1 -> 0.1
A88: Weekly Volume | C88: =C86*C87 -> 537600 | D88: gal./week
A89: Soils Concentration | C89: 0.00091 | D89: by mass
A90: Organics Concentration | C90: 0.00239 | D90: by mass
A91: Bulk Specific Gravity of Soils | C91: =105/62.4 -> 1.6826923 | D91: (assumed)
A92: Bulk Specific Gravity of Organics | C92: =40/62.4 -> 0.64102564 | D92: (assumed)
A93: Soils Concentration | C93: =C89/C91 -> 0.0005408 | D93: by volume
A94: Organics Concentration | C94: =C90/C92 -> 0.0037284 | D94: by volume
A95: Soils in Flow | C95: =C86/7.48052*C93 -> 5.5522129 | D95: ft3/day
A96: Organics in Flow | C96: =C86/7.48052*C94 -> 38.278237 | D96: ft3/day
A97: Soils Collected | C97: =C95*E56 -> 3.819004 | D97: ft3/day
A98: Depth of Soil Collected | C98: =C97/A -> 0.0019726261 | D98: ft/day
A99: Cleaning Frequency | C99: 14 | D99: days
A100: Max Soil Depth at Cleaning | C100: =C98*C99*12 -> 0.33140118 | D100: inches
A101: Organics Volume at Cleaning | C101: =C96*C99 -> 535.89532 | D101: ft3
A102: Organics Thickness at Cleaning | C102: =C101/A*12 -> 3.3216652 | D102: inches

Sheet Viscosity Table
A1: T (F) | B1: Mu (lbs/ft2)x10^-5
A2: 32 | B2: 3.732 | C2: =B2*10^(-5) -> 3.732e-05
A3: 40 | B3: 3.228 | C3: =B3*10^(-5) -> 3.228e-05
A4: 50 | B4: 2.73 | C4: =B4*10^(-5) -> 2.73e-05
A5: 60 | B5: 2.344 | C5: =B5*10^(-5) -> 2.344e-05
A6: 70 | B6: 2.034 | C6: =B6*10^(-5) -> 2.034e-05
A7: 80 | B7: 1.791 | C7: =B7*10^(-5) -> 1.791e-05
A8: 90 | B8: 1.5 | C8: =B8*10^(-5) -> 1.5e-05
A9: 100 | B9: 1.423 | C9: =B9*10^(-5) -> 1.423e-05
A10: 120 | B10: 1.164 | C10: =B10*10^(-5) -> 1.164e-05
A11: 140 | B11: 0.974 | C11: =B11*10^(-5) -> 9.74e-06
A12: 160 | B12: 0.832 | C12: =B12*10^(-5) -> 8.32e-06
A13: 180 | B13: 0.721 | C13: =B13*10^(-5) -> 7.21e-06
... A15: 212 | B15: 0.589 | C15: =B15*10^(-5) -> 5.89e-06

Sheet Material Gradations
A1: Rock Trap Material | H1: Pit Material
A2: Coarse Aggregate | C2: Sieve | D2: Sieve Size (mm) | E2: Percent Passing | F2: Percent Retained | H2: Coarse Aggregate | J2: Sieve | K2: Sieve Size (mm) | L2: Percent Passing | M2: Percent Retained
C4: 2" | D4: 50.8 | E4: 1 | F4: 0 | J4: 2" | K4: 50.8 | L4: 1 | M4: 0
C5: 1 1/2" | D5: 38.1 | E5: 1 | F5: 0 | J5: 1 1/2" | K5: 38.1 | L5: 1 | M5: 0
C6: 1" | D6: 25.4 | E6: 1 | F6: 0 | J6: 1" | K6: 25.4 | L6: 1 | M6: 0
C7: 3/4" | D7: 19 | E7: 1 | F7: 0 | J7: 3/4" | K7: 19 | L7: 1 | M7: 0
C8: 1/2" | D8: 12.7 | E8: 1 | F8: 0 | J8: 1/2" | K8: 12.7 | L8: 1 | M8: 0
C9: 3/8" | D9: 9.51 | E9: 1 | F9: 0 | J9: 3/8" | K9: 9.51 | L9: 1 | M9: 0
C10: No. 4 | D10: 4.76 | E10: 1 | F10: 0 | J10: No. 4 | K10: 4.76 | L10: 1 | M10: 0
C11: No. 8 | D11: 2.38 | E11: 1 | F11: 0 | J11: No. 8 | K11: 2.38 | L11: 1 | M11: 0
C12: No. 10 | D12: 2 | E12: 1 | F12: 0 | J12: No. 10 | K12: 2 | L12: 1 | M12: 0
A13: Fine Aggregate | B13: Retained #200 | C13: No. 60 | D13: 0.25 | E13: 0.99489796 | F13: 0.0051020408 | H13: Fine Aggregate | I13: Retained #200 | J13: No. 60 | K13: 0.25 | L13: 0.97863248 | M13: 0.021367521
C14: No. 80 | D14: 0.177 | E14: 0.98469388 | F14: 0.015306122 | J14: No. 80 | K14: 0.177 | L14: 0.92307692 | M14: 0.076923077
C15: No. 100 | D15: 0.149 | E15: 0.96938776 | F15: 0.030612245 | J15: No. 100 | K15: 0.149 | L15: 0.86752137 | M15: 0.13247863
C16: No. 200 | D16: 0.074 | E16: 0.87244898 | F16: 0.12755102 | J16: No. 200 | K16: 0.074 | L16: 0.67094017 | M16: 0.32905983
B17: Passing #200 | C17: 0.034499321 | D17: 0.034499321 | E17: 0.85788119 | F17: 0.14211881 | I17: Passing #200 | J17: 0.035332149 | K17: 0.035332149 | L17: 0.50655027 | M17: 0.49344973
C18: 0.022067711 | D18: 0.022067711 | E18: 0.78639109 | F18: 0.21360891 | J18: 0.02259477 | K18: 0.02259477 | L18: 0.46050025 | M18: 0.53949975
C19: 0.012976323 | D19: 0.012976323 | E19: 0.64341089 | F19: 0.35658911 | J19: 0.013139971 | K19: 0.013139971 | L19: =1-M19 -> 0.41445022 | M19: 0.58554978
C20: 0.0092741355 | D20: 0.0092741355 | E20: 0.60766584 | F20: 0.39233416 | J20: 0.0092913629 | K20: 0.0092913629 | L20: 0.41445022 | M20: 0.5856
C21: 0.0064799667 | D21: 0.0064799667 | E21: 0.57192079 | F21: 0.42807921 | J21: 0.006687107 | K21: 0.006687107 | L21: 0.34537519 | M21: 0.65462481
C22: 0.0032299283 | D22: 0.0032299283 | E22: 0.46468564 | F22: 0.53531436 | J22: 0.0032687263 | K22: 0.0032687263 | L22: 0.27630015 | M22: 0.72369985
C23: 0.0013619693 | D23: 0.0013619693 | E23: 0.4360896 | F23: 0.5639104 | J23: 0.0013757967 | K23: 0.0013757967 | L23: 0.25327514 | M23: 0.74672486
A24: Extrapolated Data | C24: =C23 -> 0.0013619693 | D24: =C24 -> 0.0013619693 | E24: =E23 -> 0.4360896 | F24: =1-E24 -> 0.5639104
C25: =C24/C22*C24 -> 0.00057430387 | D25: =C25 -> 0.00057430387 | E25: =E24-0.05 -> 0.3860896 | F25: =1-E25 -> 0.6139104
C26: =C25/C24*C25 -> 0.00024216767 | D26: =C26 -> 0.00024216767 | E26: =E25-0.05 -> 0.3360896 | F26: =1-E26 -> 0.6639104
C27: =C26/C25*C26 -> 0.00010211525 | D27: =C27 -> 0.00010211525 | E27: =E26-0.05 -> 0.2860896 | F27: =1-E27 -> 0.7139104
C28: =C27/C26*C27 -> 4.3059107e-05 | D28: =C28 -> 4.3059107e-05 | E28: =E27-0.05 -> 0.2360896 | F28: =1-E28 -> 0.7639104
C29: =C28/C27*C28 -> 1.8156806e-05 | D29: =C29 -> 1.8156806e-05 | E29: =E28-0.05 -> 0.1860896 | F29: =1-E29 -> 0.8139104
C30: =C29/C28*C29 -> 7.6562105e-06 | D30: =C30 -> 7.6562105e-06 | E30: =E29-0.05 -> 0.1360896 | F30: =1-E30 -> 0.8639104
C31: =C30/C29*C30 -> 3.2284071e-06 | D31: =C31 -> 3.2284071e-06 | E31: =E30-0.05 -> 0.086089603 | F31: =1-E31 -> 0.9139104

Sheet Sources
A2: https://nptel.ac.in/courses/103107084/module3/lecture7/lecture7.pdf
A3: https://www.uidaho.edu/-/media/UIdaho-Responsive/Files/Extension/county/twin-falls/WRAC-106.pdf
A4: http://www.dartmouth.edu/~cushman/courses/engs37/Settling.pdf
