Workbook
Name A: Vs!$C$66
Name Amin: Vs!$C$63
Name CDa: Vs!$K$24
Name D: Vs!$C$67
Name dist: Vs!$C$71
Name Dp: Vs!$C$25
Name dpmin: Vs!$C$4
Name dx: Vs!$C$72
Name dy: Vs!$C$70
Name g: Vs!$C$23
Name L: Vs!$C$64
Name muf: Vs!$C$27
Name P: Vs!$C$2
Name phi: Vs!$K$20
Name Q: Vs!$C$61
Name Re: Vs!$K$21
Name rhof: Vs!$C$21
Name rhop: Vs!$C$22
Name S: Vs!$C$20
Name T: Vs!$C$26
Name tone: Vs!$C$69
Name ttwo: Vs!$C$71
Name v0: Vs!$C$62
Name vx: Vs!$C$68
Name W: Vs!$C$65
Name x: Vs!$Z$6:$AE$6
Name x0: Vs!$Z$7:$AE$7
Name xone: Vs!$Z$8:$AE$8
Name y: Vs!$Z$11:$AE$11
Name y0: Vs!$Z$9:$AE$9
Name yone: Vs!$Z$10:$AE$10
Name Zone: Vs!$K$22

Sheet Vs
A1: Step 1: Determine Minimum Particle Size to be Settled
A2: P | B2: P | C2: 0.65 | E2: Percent of total Mass to be Settled | Y2: Rock Trap Material | AC2: Pit Material
C3: Pit | E3: Material Type | Z3: x | AA3: y | AD3: x | AE3: y
A4: dpmin | B4: Dp min | C4: =IF(C3="Pit",AD11,Z11) -> 0.0068615979 | D4: mm | E4: Minimum Particle Size that Must Settle | Y4: 1 | Z4: ='Material Gradations'!K23 -> 0.0013757967 | AA4: =AE4 -> 0.35 | AC4: 1 | AD4: ='Material Gradations'!C31 -> 3.2284071e-06 | AE4: =1-C2 -> 0.35
Y5: 2 | Z5: ='Material Gradations'!K4 -> 50.8 | AA5: =AA4 -> 0.35 | AC5: 2 | AD5: ='Material Gradations'!D4 -> 50.8 | AE5: =AE4 -> 0.35
Y6: x | Z6: =C2 -> 0.65 | AC6: x | AD6: =C2 -> 0.65
Y7: x0 | Z7: =VLOOKUP(x,'Material Gradations'!$F$4:$F$31,1,TRUE) -> 0.6139104 | AC7: x0 | AD7: =VLOOKUP(x,'Material Gradations'!M4:M23,1,TRUE) -> 0.5856
Y8: x1 | Z8: =INDEX('Material Gradations'!$F$4:$F$31,MATCH(Vs!Z7,'Material Gradations'!$F$4:$F$31,0)+1,1) -> 0.6639104 | AC8: x1 | AD8: =INDEX('Material Gradations'!M4:M23,MATCH(Vs!AD7,'Material Gradations'!M4:M23,0)+1,1) -> 0.65462481
Y9: y0 | Z9: =INDEX('Material Gradations'!$D$4:$D$31,MATCH(Vs!Z7,'Material Gradations'!$F$4:$F$31,0),1) -> 0.00057430387 | AA9: mm | AC9: y0 | AD9: =INDEX('Material Gradations'!K4:K23,MATCH(Vs!AD7,'Material Gradations'!M4:M23,0),1) -> 0.0092913629 | AE9: mm
Y10: y1 | Z10: =INDEX('Material Gradations'!$D$4:$D$31,MATCH(Vs!Z8,'Material Gradations'!$F$4:$F$31,0),1) -> 0.00024216767 | AA10: mm | AC10: y1 | AD10: =INDEX('Material Gradations'!K5:K24,MATCH(Vs!AD8,'Material Gradations'!M5:M24,0),1) -> 0.006687107 | AE10: mm
Y11: y | Z11: =y0+(x-x0)*(yone-y0)/(xone-x0) -> 0.0003345706 | AA11: mm | AC11: y | AD11: =y0+(x-x0)*(yone-y0)/(xone-x0) -> 0.0068615979 | AE11: mm
A18: Step 1: Determine Settling Velocity (vs)
A19: Method A (from text) | I19: Method B (https://nptel.ac.in/courses/103107084/module3/lecture7/lecture7.pdf)
A20: S | B20: S | C20: 2.65 | E20: Specific Gravity of Particle | I20: phi | J20: φ | K20: 1 | M20: Particle Shape Factor
A21: rhop | B21: ρp | C21: =S*1.94 -> 5.141 | D21: slug/ft3 | E21: Density of Particle | I21: Re | J21: Re | K21: =phi*rhop*C28*Dp/(muf) -> 0.00012913767 | M21: Reynolds Number
A22: rhof | B22: ρf | C22: 1.94 | D22: slug/ft3 | E22: Density of Fluid | I22: Zone | J22: Zone | K22: =IF(Re<0.1,"Laminar",IF(Re>1000,"Turbulant","Transition")) -> Laminar | M22: Flow Type
A23: g | B23: g | C23: 32.2 | D23: ft/s2 | E23: acceleration of gravity | I23: CD | J23: CD | K23: =IF(Zone="Laminar",24/Re,IF(Zone="Transition",18.5/Re^0.6,0.4)) -> 185848.17 | M23: Drag Coefficient
C24: 0.007 | D24: mm | E24: Particle Diameter | I24: CDa | J24: CD alt | K24: =24/Re+3/SQRT(Re)+0.34 -> 186112.51 | M24: Alternative Drag Coefficient
A25: dp | B25: Dp | C25: =C24/25.4/12 -> 2.2965879e-05 | D25: ft | E25: Particle Diameter | J25: Use | K25: CD
A26: T | B26: T | C26: 40 | D26: F | E26: Water Temperature
A27: muf | B27: μf | C27: =VLOOKUP(VLOOKUP(T,'Viscosity Table'!A2:A15,1,TRUE),'Viscosity Table'!$A$2:$C$15,3,FALSE)+(T-VLOOKUP(T,'Viscosity Table'!A2:A15,1,TRUE))*(VLOOKUP(INDEX('Viscosity Table'!$A$2:$A$15,MATCH(VLOOKUP(T,'Viscosity Table'!A2:A15,1,TRUE),'Viscosity Table'!A2:A15,0)+1,1),'Viscosity Table'!$A$2:$C$15,3,FALSE)-VLOOKUP(VLOOKUP(T,'Viscosity Table'!A2:A15,1,TRUE),'Viscosity Table'!$A$2:$C$15,3,FALSE))/(INDEX('Viscosity Table'!$A$2:$A$15,MATCH(VLOOKUP(T,'Viscosity Table'!A2:A15,1,TRUE),'Viscosity Table'!A2:A15,0)+1,1)-VLOOKUP(T,'Viscosity Table'!A2:A15,1,TRUE)) -> 3.228e-05 | D27: lb-s/ft2 | E27: Water Dynamic Viscosity
A28: ut | B28: ut or vs | C28: =g*(rhof-rhop)*Dp^2/(18*muf) -> 9.3562468e-05 | D28: ft/s | E28: Terminal Settling Velocity | I28: Iterative Procecure
I29: ut (previous) | J29: Re | K29: CD | L29: ut | M29: Diff
I30: ft/s | L30: ft/s | M30: ft/s
I31: =C28 -> 9.3562468e-05 | J31: =Re -> 0.00012913767 | K31: =IF(K25="CD",K23,K24) -> 185848.17 | L31: =SQRT(4/3*(rhof-rhop)/rhop*(g*Dp)/(phi*K31)) -> 9.3562468e-05 | M31: =I31-L31 -> 0
I32: =L31 -> 9.3562468e-05 | J32: =phi*rhop*I32*Dp/(muf) -> 0.00012913767 | K32: =IF($K$25="CD",IF(J32<0.1,24/J32,IF(J32>1000,0.4,18.5/J32^0.6)),24/J32+3/SQRT(J32)+0.34) -> 185848.17 | L32: =SQRT(4/3*(rhof-rhop)/rhop*(g*Dp)/(phi*K32)) -> 9.3562468e-05 | M32: =I32-L32 -> 0
I33: =L32 -> 9.3562468e-05 | J33: =phi*rhop*I33*Dp/(muf) -> 0.00012913767 | K33: =IF($K$25="CD",IF(J33<0.1,24/J33,IF(J33>1000,0.4,18.5/J33^0.6)),24/J33+3/SQRT(J33)+0.34) -> 185848.17 | L33: =SQRT(4/3*(rhof-rhop)/rhop*(g*Dp)/(phi*K33)) -> 9.3562468e-05 | M33: =I33-L33 -> 0
I34: =L33 -> 9.3562468e-05 | J34: =phi*rhop*I34*Dp/(muf) -> 0.00012913767 | K34: =IF($K$25="CD",IF(J34<0.1,24/J34,IF(J34>1000,0.4,18.5/J34^0.6)),24/J34+3/SQRT(J34)+0.34) -> 185848.17 | L34: =SQRT(4/3*(rhof-rhop)/rhop*(g*Dp)/(phi*K34)) -> 9.3562468e-05 | M34: =I34-L34 -> 0
I35: =L34 -> 9.3562468e-05 | J35: =phi*rhop*I35*Dp/(muf) -> 0.00012913767 | K35: =IF($K$25="CD",IF(J35<0.1,24/J35,IF(J35>1000,0.4,18.5/J35^0.6)),24/J35+3/SQRT(J35)+0.34) -> 185848.17 | L35: =SQRT(4/3*(rhof-rhop)/rhop*(g*Dp)/(phi*K35)) -> 9.3562468e-05 | M35: =I35-L35 -> 0
I36: =L35 -> 9.3562468e-05 | J36: =phi*rhop*I36*Dp/(muf) -> 0.00012913767 | K36: =IF($K$25="CD",IF(J36<0.1,24/J36,IF(J36>1000,0.4,18.5/J36^0.6)),24/J36+3/SQRT(J36)+0.34) -> 185848.17 | L36: =SQRT(4/3*(rhof-rhop)/rhop*(g*Dp)/(phi*K36)) -> 9.3562468e-05 | M36: =I36-L36 -> 0
I37: =L36 -> 9.3562468e-05 | J37: =phi*rhop*I37*Dp/(muf) -> 0.00012913767 | K37: =IF($K$25="CD",IF(J37<0.1,24/J37,IF(J37>1000,0.4,18.5/J37^0.6)),24/J37+3/SQRT(J37)+0.34) -> 185848.17 | L37: =SQRT(4/3*(rhof-rhop)/rhop*(g*Dp)/(phi*K37)) -> 9.3562468e-05 | M37: =I37-L37 -> 0
B39: Min Percent | C39: {=MIN(IF('Material Gradations'!$M$4:$M$23>0,'Material Gradations'!$M$4:$M$23))} -> 0.021367521
B40: Max Percent | C40: {=MAX(IF('Material Gradations'!$M$4:$M$23>0,'Material Gradations'!$M$4:$M$23))} -> 0.74672486 | I40: FINAL TERMINAL SETTLING VELOCITY | L40: =L37 -> 9.3562468e-05 | M40: ft/s
W41: Iteration 1 | AB41: Iteration 2 | AG41: Iteration 3 | AL41: Iteration 4 | AQ41: Iteration 5 | AV41: Iteration 6
B42: Percent of Total Mass | C42: Particle Size (mm) | D42: Terminal Settling Velocity (ft/s) | E42: Vertical Fall in Tank (ft) | F42: Collection Efficiency | G42: Particles Passing System | W42: ut1 | X42: Re | Y42: CD | Z42: ut | AA42: Diff | AB42: ut2 | AC42: Re | AD42: CD | AE42: ut | AF42: Diff | AG42: ut3 | AH42: Re | AI42: CD | AJ42: ut | AK42: Diff | AL42: ut4 | AM42: Re | AN42: CD | AO42: ut | AP42: Diff | AQ42: ut5 | AR42: Re | AS42: CD | AT42: ut | AU42: Diff | AV42: ut6 | AW42: Re | AX42: CD | AY42: ut | AZ42: Diff | BA42: x0 | BB42: x1 | BC42: y0 | BD42: y1
B43: 0 | F43: 1 | G43: 0 | V43: dp, ft | BE43: =IFERROR(B43-B41,B43) -> 0
B44: =C39 -> 0.021367521 | C44: =BC44+(B44-BA44)*(BD44-BC44)/(BB44-BA44) -> 0.25 | D44: =AY44 -> 0.08664627 | E44: =IF((D44/vx)*L>D,D,(D44/vx)*L) -> 2 | F44: =E44/D -> 1 | G44: =1-F44 -> 0 | V44: =CONVERT(C44,"mm","ft") -> 0.00082020997 | W44: =g*(rhof-rhop)*$V44^2/(18*muf) -> 0.11933988 | X44: =phi*rhop*W44*$V44/(muf) -> 5.8827292 | Y44: =IF($K$25="CD",IF(X44<0.1,24/X44,IF(X44>1000,0.4,18.5/X44^0.6)),24/X44+3/SQRT(X44)+0.34) -> 6.3888753 | Z44: =SQRT(4/3*(rhof-rhop)/rhop*(g*$V44)/(phi*Y44)) -> 0.095365127 | AA44: =W44-Z44 -> 0.023974756 | AB44: =Z44 -> 0.095365127 | AC44: =phi*rhop*AB44*$V44/(muf) -> 4.7009198 | AD44: =IF($K$25="CD",IF(AC44<0.1,24/AC44,IF(AC44>1000,0.4,18.5/AC44^0.6)),24/AC44+3/SQRT(AC44)+0.34) -> 7.3090684 | AE44: =SQRT(4/3*(rhof-rhop)/rhop*(g*$V44)/(phi*AD44)) -> 0.089160149 | AF44: =AB44-AE44 -> 0.0062049777 | AG44: =AE44 -> 0.089160149 | AH44: =phi*rhop*AG44*$V44/(muf) -> 4.3950522 | AI44: =IF($K$25="CD",IF(AH44<0.1,24/AH44,IF(AH44>1000,0.4,18.5/AH44^0.6)),24/AH44+3/SQRT(AH44)+0.34) -> 7.6101516 | AJ44: =SQRT(4/3*(rhof-rhop)/rhop*(g*$V44)/(phi*AI44)) -> 0.087378613 | AK44: =AG44-AJ44 -> 0.0017815365 | AL44: =AJ44 -> 0.087378613 | AM44: =phi*rhop*AL44*$V44/(muf) -> 4.3072333 | AN44: =IF($K$25="CD",IF(AM44<0.1,24/AM44,IF(AM44>1000,0.4,18.5/AM44^0.6)),24/AM44+3/SQRT(AM44)+0.34) -> 7.7028722 | AO44: =SQRT(4/3*(rhof-rhop)/rhop*(g*$V44)/(phi*AN44)) -> 0.086851126 | AP44: =AL44-AO44 -> 0.00052748681 | AQ44: =AO44 -> 0.086851126 | AR44: =phi*rhop*AQ44*$V44/(muf) -> 4.2812314 | AS44: =IF($K$25="CD",IF(AR44<0.1,24/AR44,IF(AR44>1000,0.4,18.5/AR44^0.6)),24/AR44+3/SQRT(AR44)+0.34) -> 7.730908 | AT44: =SQRT(4/3*(rhof-rhop)/rhop*(g*$V44)/(phi*AS44)) -> 0.086693502 | AU44: =AQ44-AT44 -> 0.00015762422 | AV44: =AT44 -> 0.086693502 | AW44: =phi*rhop*AV44*$V44/(muf) -> 4.2734615 | AX44: =IF($K$25="CD",IF(AW44<0.1,24/AW44,IF(AW44>1000,0.4,18.5/AW44^0.6)),24/AW44+3/SQRT(AW44)+0.34) -> 7.7393387 | AY44: =SQRT(4/3*(rhof-rhop)/rhop*(g*$V44)/(phi*AX44)) -> 0.08664627 | AZ44: =AV44-AY44 -> 4.7231459e-05 | BA44: =VLOOKUP(B44,'Material Gradations'!$M$4:$M$23,1,TRUE) -> 0.021367521 | BB44: =INDEX('Material Gradations'!$M$4:$M$23,MATCH(BA44,'Material Gradations'!$M$4:$M$23,0)+1,1) -> 0.076923077 | BC44: =INDEX('Material Gradations'!$K$4:$K$23,MATCH(Vs!BA44,'Material Gradations'!$M$4:$M$23,0),1) -> 0.25 | BD44: =INDEX('Material Gradations'!$K$4:$K$23,MATCH(Vs!BB44,'Material Gradations'!$M$4:$M$23,0),1) -> 0.177 | BE44: =IFERROR(B44-B42,B44) -> 0.021367521
B45: 0.64 | C45: =BC45+(B45-BA45)*(BD45-BC45)/(BB45-BA45) -> 0.0072388906 | D45: =AY45 -> 0.00010005749 | E45: =IF((D45/vx)*L>D,D,(D45/vx)*L) -> 2 | F45: =E45/D -> 1 | G45: =1-F45 -> 0 | V45: =CONVERT(C45,"mm","ft") -> 2.3749641e-05 | W45: =g*(rhof-rhop)*$V45^2/(18*muf) -> 0.00010005749 | X45: =phi*rhop*W45*$V45/(muf) -> 0.00014281534 | Y45: =IF($K$25="CD",IF(X45<0.1,24/X45,IF(X45>1000,0.4,18.5/X45^0.6)),24/X45+3/SQRT(X45)+0.34) -> 168049.17 | Z45: =SQRT(4/3*(rhof-rhop)/rhop*(g*$V45)/(phi*Y45)) -> 0.00010005749 | AA45: =W45-Z45 -> 0 | AB45: =Z45 -> 0.00010005749 | AC45: =phi*rhop*AB45*$V45/(muf) -> 0.00014281534 | AD45: =IF($K$25="CD",IF(AC45<0.1,24/AC45,IF(AC45>1000,0.4,18.5/AC45^0.6)),24/AC45+3/SQRT(AC45)+0.34) -> 168049.17 | AE45: =SQRT(4/3*(rhof-rhop)/rhop*(g*$V45)/(phi*AD45)) -> 0.00010005749 | AF45: =AB45-AE45 -> 0 | AG45: =AE45 -> 0.00010005749 | AH45: =phi*rhop*AG45*$V45/(muf) -> 0.00014281534 | AI45: =IF($K$25="CD",IF(AH45<0.1,24/AH45,IF(AH45>1000,0.4,18.5/AH45^0.6)),24/AH45+3/SQRT(AH45)+0.34) -> 168049.17 | AJ45: =SQRT(4/3*(rhof-rhop)/rhop*(g*$V45)/(phi*AI45)) -> 0.00010005749 | AK45: =AG45-AJ45 -> 0 | AL45: =AJ45 -> 0.00010005749 | AM45: =phi*rhop*AL45*$V45/(muf) -> 0.00014281534 | AN45: =IF($K$25="CD",IF(AM45<0.1,24/AM45,IF(AM45>1000,0.4,18.5/AM45^0.6)),24/AM45+3/SQRT(AM45)+0.34) -> 168049.17 | AO45: =SQRT(4/3*(rhof-rhop)/rhop*(g*$V45)/(phi*AN45)) -> 0.00010005749 | AP45: =AL45-AO45 -> 0 | AQ45: =AO45 -> 0.00010005749 | AR45: =phi*rhop*AQ45*$V45/(muf) -> 0.00014281534 | AS45: =IF($K$25="CD",IF(AR45<0.1,24/AR45,IF(AR45>1000,0.4,18.5/AR45^0.6)),24/AR45+3/SQRT(AR45)+0.34) -> 168049.17 | AT45: =SQRT(4/3*(rhof-rhop)/rhop*(g*$V45)/(phi*AS45)) -> 0.00010005749 | AU45: =AQ45-AT45 -> 0 | AV45: =AT45 -> 0.00010005749 | AW45: =phi*rhop*AV45*$V45/(muf) -> 0.00014281534 | AX45: =IF($K$25="CD",IF(AW45<0.1,24/AW45,IF(AW45>1000,0.4,18.5/AW45^0.6)),24/AW45+3/SQRT(AW45)+0.34) -> 168049.17 | AY45: =SQRT(4/3*(rhof-rhop)/rhop*(g*$V45)/(phi*AX45)) -> 0.00010005749 | AZ45: =AV45-AY45 -> 0 | BA45: =VLOOKUP(B45,'Material Gradations'!$M$4:$M$23,1,TRUE) -> 0.5856 | BB45: =INDEX('Material Gradations'!$M$4:$M$23,MATCH(BA45,'Material Gradations'!$M$4:$M$23,0)+1,1) -> 0.65462481 | BC45: =INDEX('Material Gradations'!$K$4:$K$23,MATCH(Vs!BA45,'Material Gradations'!$M$4:$M$23,0),1) -> 0.0092913629 | BD45: =INDEX('Material Gradations'!$K$4:$K$23,MATCH(Vs!BB45,'Material Gradations'!$M$4:$M$23,0),1) -> 0.006687107 | BE45: =IFERROR(B45-B44,B45) -> 0.61863248
B46: 0.65 | C46: =BC46+(B46-BA46)*(BD46-BC46)/(BB46-BA46) -> 0.0068615979 | D46: =AY46 -> 8.989926e-05 | E46: =IF((D46/vx)*L>D,D,(D46/vx)*L) -> 1.9529151 | F46: =E46/D -> 0.97645753 | G46: =1-F46 -> 0.023542467 | V46: =CONVERT(C46,"mm","ft") -> 2.2511804e-05 | W46: =g*(rhof-rhop)*$V46^2/(18*muf) -> 8.989926e-05 | X46: =phi*rhop*W46*$V46/(muf) -> 0.0001216283 | Y46: =IF($K$25="CD",IF(X46<0.1,24/X46,IF(X46>1000,0.4,18.5/X46^0.6)),24/X46+3/SQRT(X46)+0.34) -> 197322.51 | Z46: =SQRT(4/3*(rhof-rhop)/rhop*(g*$V46)/(phi*Y46)) -> 8.989926e-05 | AA46: =W46-Z46 -> 0 | AB46: =Z46 -> 8.989926e-05 | AC46: =phi*rhop*AB46*$V46/(muf) -> 0.0001216283 | AD46: =IF($K$25="CD",IF(AC46<0.1,24/AC46,IF(AC46>1000,0.4,18.5/AC46^0.6)),24/AC46+3/SQRT(AC46)+0.34) -> 197322.51 | AE46: =SQRT(4/3*(rhof-rhop)/rhop*(g*$V46)/(phi*AD46)) -> 8.989926e-05 | AF46: =AB46-AE46 -> 0 | AG46: =AE46 -> 8.989926e-05 | AH46: =phi*rhop*AG46*$V46/(muf) -> 0.0001216283 | AI46: =IF($K$25="CD",IF(AH46<0.1,24/AH46,IF(AH46>1000,0.4,18.5/AH46^0.6)),24/AH46+3/SQRT(AH46)+0.34) -> 197322.51 | AJ46: =SQRT(4/3*(rhof-rhop)/rhop*(g*$V46)/(phi*AI46)) -> 8.989926e-05 | AK46: =AG46-AJ46 -> 0 | AL46: =AJ46 -> 8.989926e-05 | AM46: =phi*rhop*AL46*$V46/(muf) -> 0.0001216283 | AN46: =IF($K$25="CD",IF(AM46<0.1,24/AM46,IF(AM46>1000,0.4,18.5/AM46^0.6)),24/AM46+3/SQRT(AM46)+0.34) -> 197322.51 | AO46: =SQRT(4/3*(rhof-rhop)/rhop*(g*$V46)/(phi*AN46)) -> 8.989926e-05 | AP46: =AL46-AO46 -> 0 | AQ46: =AO46 -> 8.989926e-05 | AR46: =phi*rhop*AQ46*$V46/(muf) -> 0.0001216283 | AS46: =IF($K$25="CD",IF(AR46<0.1,24/AR46,IF(AR46>1000,0.4,18.5/AR46^0.6)),24/AR46+3/SQRT(AR46)+0.34) -> 197322.51 | AT46: =SQRT(4/3*(rhof-rhop)/rhop*(g*$V46)/(phi*AS46)) -> 8.989926e-05 | AU46: =AQ46-AT46 -> 0 | AV46: =AT46 -> 8.989926e-05 | AW46: =phi*rhop*AV46*$V46/(muf) -> 0.0001216283 | AX46: =IF($K$25="CD",IF(AW46<0.1,24/AW46,IF(AW46>1000,0.4,18.5/AW46^0.6)),24/AW46+3/SQRT(AW46)+0.34) -> 197322.51 | AY46: =SQRT(4/3*(rhof-rhop)/rhop*(g*$V46)/(phi*AX46)) -> 8.989926e-05 | AZ46: =AV46-AY46 -> 0 | BA46: =VLOOKUP(B46,'Material Gradations'!$M$4:$M$23,1,TRUE) -> 0.5856 | BB46: =INDEX('Material Gradations'!$M$4:$M$23,MATCH(BA46,'Material Gradations'!$M$4:$M$23,0)+1,1) -> 0.65462481 | BC46: =INDEX('Material Gradations'!$K$4:$K$23,MATCH(Vs!BA46,'Material Gradations'!$M$4:$M$23,0),1) -> 0.0092913629 | BD46: =INDEX('Material Gradations'!$K$4:$K$23,MATCH(Vs!BB46,'Material Gradations'!$M$4:$M$23,0),1) -> 0.006687107 | BE46: =IFERROR(B46-B45,B46) -> 0.01
B47: 0.66 | C47: =BC47+(B47-BA47)*(BD47-BC47)/(BB47-BA47) -> 0.0064211002 | D47: =AY47 -> 7.8727142e-05 | E47: =IF((D47/vx)*L>D,D,(D47/vx)*L) -> 1.710219 | F47: =E47/D -> 0.85510949 | G47: =1-F47 -> 0.14489051 | V47: =CONVERT(C47,"mm","ft") -> 2.1066602e-05 | W47: =g*(rhof-rhop)*$V47^2/(18*muf) -> 7.8727142e-05 | X47: =phi*rhop*W47*$V47/(muf) -> 9.9675213e-05 | Y47: =IF($K$25="CD",IF(X47<0.1,24/X47,IF(X47>1000,0.4,18.5/X47^0.6)),24/X47+3/SQRT(X47)+0.34) -> 240782.03 | Z47: =SQRT(4/3*(rhof-rhop)/rhop*(g*$V47)/(phi*Y47)) -> 7.8727142e-05 | AA47: =W47-Z47 -> 0 | AB47: =Z47 -> 7.8727142e-05 | AC47: =phi*rhop*AB47*$V47/(muf) -> 9.9675213e-05 | AD47: =IF($K$25="CD",IF(AC47<0.1,24/AC47,IF(AC47>1000,0.4,18.5/AC47^0.6)),24/AC47+3/SQRT(AC47)+0.34) -> 240782.03 | AE47: =SQRT(4/3*(rhof-rhop)/rhop*(g*$V47)/(phi*AD47)) -> 7.8727142e-05 | AF47: =AB47-AE47 -> 0 | AG47: =AE47 -> 7.8727142e-05 | AH47: =phi*rhop*AG47*$V47/(muf) -> 9.9675213e-05 | AI47: =IF($K$25="CD",IF(AH47<0.1,24/AH47,IF(AH47>1000,0.4,18.5/AH47^0.6)),24/AH47+3/SQRT(AH47)+0.34) -> 240782.03 | AJ47: =SQRT(4/3*(rhof-rhop)/rhop*(g*$V47)/(phi*AI47)) -> 7.8727142e-05 | AK47: =AG47-AJ47 -> 0 | AL47: =AJ47 -> 7.8727142e-05 | AM47: =phi*rhop*AL47*$V47/(muf) -> 9.9675213e-05 | AN47: =IF($K$25="CD",IF(AM47<0.1,24/AM47,IF(AM47>1000,0.4,18.5/AM47^0.6)),24/AM47+3/SQRT(AM47)+0.34) -> 240782.03 | AO47: =SQRT(4/3*(rhof-rhop)/rhop*(g*$V47)/(phi*AN47)) -> 7.8727142e-05 | AP47: =AL47-AO47 -> 0 | AQ47: =AO47 -> 7.8727142e-05 | AR47: =phi*rhop*AQ47*$V47/(muf) -> 9.9675213e-05 | AS47: =IF($K$25="CD",IF(AR47<0.1,24/AR47,IF(AR47>1000,0.4,18.5/AR47^0.6)),24/AR47+3/SQRT(AR47)+0.34) -> 240782.03 | AT47: =SQRT(4/3*(rhof-rhop)/rhop*(g*$V47)/(phi*AS47)) -> 7.8727142e-05 | AU47: =AQ47-AT47 -> 0 | AV47: =AT47 -> 7.8727142e-05 | AW47: =phi*rhop*AV47*$V47/(muf) -> 9.9675213e-05 | AX47: =IF($K$25="CD",IF(AW47<0.1,24/AW47,IF(AW47>1000,0.4,18.5/AW47^0.6)),24/AW47+3/SQRT(AW47)+0.34) -> 240782.03 | AY47: =SQRT(4/3*(rhof-rhop)/rhop*(g*$V47)/(phi*AX47)) -> 7.8727142e-05 | AZ47: =AV47-AY47 -> 0 | BA47: =VLOOKUP(B47,'Material Gradations'!$M$4:$M$23,1,TRUE) -> 0.65462481 | BB47: =INDEX('Material Gradations'!$M$4:$M$23,MATCH(BA47,'Material Gradations'!$M$4:$M$23,0)+1,1) -> 0.72369985 | BC47: =INDEX('Material Gradations'!$K$4:$K$23,MATCH(Vs!BA47,'Material Gradations'!$M$4:$M$23,0),1) -> 0.006687107 | BD47: =INDEX('Material Gradations'!$K$4:$K$23,MATCH(Vs!BB47,'Material Gradations'!$M$4:$M$23,0),1) -> 0.0032687263 | BE47: =IFERROR(B47-B46,B47) -> 0.01
...

Sheet Viscosity Table
A1: T (F) | B1: Mu (lbs/ft2)x10^-5
A2: 32 | B2: 3.732 | C2: =B2*10^(-5) -> 3.732e-05
A3: 40 | B3: 3.228 | C3: =B3*10^(-5) -> 3.228e-05
A4: 50 | B4: 2.73 | C4: =B4*10^(-5) -> 2.73e-05
A5: 60 | B5: 2.344 | C5: =B5*10^(-5) -> 2.344e-05
A6: 70 | B6: 2.034 | C6: =B6*10^(-5) -> 2.034e-05
A7: 80 | B7: 1.791 | C7: =B7*10^(-5) -> 1.791e-05
A8: 90 | B8: 1.5 | C8: =B8*10^(-5) -> 1.5e-05
A9: 100 | B9: 1.423 | C9: =B9*10^(-5) -> 1.423e-05
A10: 120 | B10: 1.164 | C10: =B10*10^(-5) -> 1.164e-05
A11: 140 | B11: 0.974 | C11: =B11*10^(-5) -> 9.74e-06
A12: 160 | B12: 0.832 | C12: =B12*10^(-5) -> 8.32e-06
A13: 180 | B13: 0.721 | C13: =B13*10^(-5) -> 7.21e-06
... A15: 212 | B15: 0.589 | C15: =B15*10^(-5) -> 5.89e-06

Sheet Material Gradations
A1: Rock Trap Material | H1: Pit Material
A2: Coarse Aggregate | C2: Sieve | D2: Sieve Size (mm) | E2: Percent Passing | F2: Percent Retained | H2: Coarse Aggregate | J2: Sieve | K2: Sieve Size (mm) | L2: Percent Passing | M2: Percent Retained
C4: 2" | D4: 50.8 | E4: 1 | F4: 0 | J4: 2" | K4: 50.8 | L4: 1 | M4: 0
C5: 1 1/2" | D5: 38.1 | E5: 1 | F5: 0 | J5: 1 1/2" | K5: 38.1 | L5: 1 | M5: 0
C6: 1" | D6: 25.4 | E6: 1 | F6: 0 | J6: 1" | K6: 25.4 | L6: 1 | M6: 0
C7: 3/4" | D7: 19 | E7: 1 | F7: 0 | J7: 3/4" | K7: 19 | L7: 1 | M7: 0
C8: 1/2" | D8: 12.7 | E8: 1 | F8: 0 | J8: 1/2" | K8: 12.7 | L8: 1 | M8: 0
C9: 3/8" | D9: 9.51 | E9: 1 | F9: 0 | J9: 3/8" | K9: 9.51 | L9: 1 | M9: 0
C10: No. 4 | D10: 4.76 | E10: 1 | F10: 0 | J10: No. 4 | K10: 4.76 | L10: 1 | M10: 0
C11: No. 8 | D11: 2.38 | E11: 1 | F11: 0 | J11: No. 8 | K11: 2.38 | L11: 1 | M11: 0
C12: No. 10 | D12: 2 | E12: 1 | F12: 0 | J12: No. 10 | K12: 2 | L12: 1 | M12: 0
A13: Fine Aggregate | B13: Retained #200 | C13: No. 60 | D13: 0.25 | E13: 0.99489796 | F13: 0.0051020408 | H13: Fine Aggregate | I13: Retained #200 | J13: No. 60 | K13: 0.25 | L13: 0.97863248 | M13: 0.021367521
C14: No. 80 | D14: 0.177 | E14: 0.98469388 | F14: 0.015306122 | J14: No. 80 | K14: 0.177 | L14: 0.92307692 | M14: 0.076923077
C15: No. 100 | D15: 0.149 | E15: 0.96938776 | F15: 0.030612245 | J15: No. 100 | K15: 0.149 | L15: 0.86752137 | M15: 0.13247863
C16: No. 200 | D16: 0.074 | E16: 0.87244898 | F16: 0.12755102 | J16: No. 200 | K16: 0.074 | L16: 0.67094017 | M16: 0.32905983
B17: Passing #200 | C17: 0.034499321 | D17: 0.034499321 | E17: 0.85788119 | F17: 0.14211881 | I17: Passing #200 | J17: 0.035332149 | K17: 0.035332149 | L17: 0.50655027 | M17: 0.49344973
C18: 0.022067711 | D18: 0.022067711 | E18: 0.78639109 | F18: 0.21360891 | J18: 0.02259477 | K18: 0.02259477 | L18: 0.46050025 | M18: 0.53949975
C19: 0.012976323 | D19: 0.012976323 | E19: 0.64341089 | F19: 0.35658911 | J19: 0.013139971 | K19: 0.013139971 | L19: =1-M19 -> 0.41445022 | M19: 0.58554978
C20: 0.0092741355 | D20: 0.0092741355 | E20: 0.60766584 | F20: 0.39233416 | J20: 0.0092913629 | K20: 0.0092913629 | L20: 0.41445022 | M20: 0.5856
C21: 0.0064799667 | D21: 0.0064799667 | E21: 0.57192079 | F21: 0.42807921 | J21: 0.006687107 | K21: 0.006687107 | L21: 0.34537519 | M21: 0.65462481
C22: 0.0032299283 | D22: 0.0032299283 | E22: 0.46468564 | F22: 0.53531436 | J22: 0.0032687263 | K22: 0.0032687263 | L22: 0.27630015 | M22: 0.72369985
C23: 0.0013619693 | D23: 0.0013619693 | E23: 0.4360896 | F23: 0.5639104 | J23: 0.0013757967 | K23: 0.0013757967 | L23: 0.25327514 | M23: 0.74672486
A24: Extrapolated Data | C24: =C23 -> 0.0013619693 | D24: =C24 -> 0.0013619693 | E24: =E23 -> 0.4360896 | F24: =1-E24 -> 0.5639104
C25: =C24/C22*C24 -> 0.00057430387 | D25: =C25 -> 0.00057430387 | E25: =E24-0.05 -> 0.3860896 | F25: =1-E25 -> 0.6139104
C26: =C25/C24*C25 -> 0.00024216767 | D26: =C26 -> 0.00024216767 | E26: =E25-0.05 -> 0.3360896 | F26: =1-E26 -> 0.6639104
C27: =C26/C25*C26 -> 0.00010211525 | D27: =C27 -> 0.00010211525 | E27: =E26-0.05 -> 0.2860896 | F27: =1-E27 -> 0.7139104
C28: =C27/C26*C27 -> 4.3059107e-05 | D28: =C28 -> 4.3059107e-05 | E28: =E27-0.05 -> 0.2360896 | F28: =1-E28 -> 0.7639104
C29: =C28/C27*C28 -> 1.8156806e-05 | D29: =C29 -> 1.8156806e-05 | E29: =E28-0.05 -> 0.1860896 | F29: =1-E29 -> 0.8139104
C30: =C29/C28*C29 -> 7.6562105e-06 | D30: =C30 -> 7.6562105e-06 | E30: =E29-0.05 -> 0.1360896 | F30: =1-E30 -> 0.8639104
C31: =C30/C29*C30 -> 3.2284071e-06 | D31: =C31 -> 3.2284071e-06 | E31: =E30-0.05 -> 0.086089603 | F31: =1-E31 -> 0.9139104

Sheet Sources
A2: https://nptel.ac.in/courses/103107084/module3/lecture7/lecture7.pdf
A3: https://www.uidaho.edu/-/media/UIdaho-Responsive/Files/Extension/county/twin-falls/WRAC-106.pdf
A4: http://www.dartmouth.edu/~cushman/courses/engs37/Settling.pdf
