Workbook

Sheet loads
A1: lateral
A2: front weight | B2: =left!D18+right!D18 -> 1250
A3: lateral grip | B3: 1.02
A4: effective weight | B4: =B2*B3 -> 1275
A6: braking
A7: laden weight | B7: =left!D$18+right!D$18+rear!D$18 -> 1950
A8: decel g's | B8: 1
A9: effetive weight | B9: =B7*B8 -> 1950
A10: per wheel | B10: =B9/2 -> 975
A12: accelerating
A13: laden weight | B13: =left!D$18+right!D$18+rear!D$18 -> 1950
A14: 0-60 time | B14: 5.5
A15: decel grip | B15: =2.73487888320681/B14 -> 0.49725071
A16: effetive weight | B16: =B13*B15 -> 969.63888

Sheet left
A1: Shock
A2: stock clearance | B2: 6
A3: target clearance | B3: 5
A4: body drops | B4: =B2-B3 -> 1
A5: shock unladen | B5: 15.5
A6: pivot to mount | B6: 13.5
A7: pivot to balljoint | B7: 16
A8: shock motion ratio | B8: =B6/B7 -> 0.84375
A9: compress shock | B9: =B4*B8 -> 0.84375
A10: target shock unladen | B10: =B5-B9 -> 14.65625
A11: new shock collapsed | B11: 11
A12: new shock extended | B12: 15.87
A13: shock stroke | B13: =B12-B11 -> 4.87 | C13: Unladen
A14: shock compression | B14: =B10-B11 -> 3.65625 | C14: =B14/B13 -> 0.75077002
A15: shock rebound | B15: =B12-B10 -> 1.21375 | C15: =B15/B13 -> 0.24922998
A17: Springs | C17: passengers | H17: 12B0185UHT | I17: 12B0200UHT | J17: 12B0212UHT | K17: 12B0225UHT | M17: 12B0175/350 | N17: 12B0200/425 | O17: 12B0230/700
A18: corner weight | B18: 571.5 | C18: =D18-B18 -> 53.5 | D18: =1250/2 -> 625 | G18: rate (lb/in) | H18: 185 | I18: 200 | J18: 212 | K18: 225 | M18: 350 | N18: 425 | O18: 700
A19: total weight | B19: =B18+right!B18+rear!B18 -> 1741.5 | D19: =D18+right!D18+rear!D18 -> 1950 | G19: compression unladen zero preload | H19: =$B$26/H18 -> 4.0135723 | I19: =$B$26/I18 -> 3.7125544 | J19: =$B$26/J18 -> 3.5024098 | K19: =$B$26/K18 -> 3.3000483 | M19: =3.57+(($B$26-D18)/M18) -> 3.9057454 | N19: =3.125+(($B$26-D18)/N18) -> 3.4014962 | O19: =2.72+(($B$26-D18)/O18) -> 2.8878727
A20: coilover weight | B20: =CONVERT(3055,"g","lbm") -> 6.7351221 | D20: =CONVERT(3055,"g","lbm") -> 6.7351221 | G20: shock length unladen zero preload (in) | H20: =$B$12-H19 -> 11.856428 | I20: =$B$12-I19 -> 12.157446 | J20: =$B$12-J19 -> 12.36759 | K20: =$B$12-K19 -> 12.569952 | M20: =$B$12-M19 -> 11.964255 | N20: =$B$12-N19 -> 12.468504 | O20: =$B$12-O19 -> 12.982127
A21: wheel and suspension | B21: =CONVERT(27.8,"kg","lbm") -> 61.288509 | D21: =CONVERT(27.8,"kg","lbm") -> 61.288509 | G21: preload to unladen ride height (in) | H21: =$B$10-H20 -> 2.7998223 | I21: =$B$10-I20 -> 2.4988044 | J21: =$B$10-J20 -> 2.2886598 | K21: =$B$10-K20 -> 2.0862983 | M21: =$B$10-M20 -> 2.6919954 | N21: =$B$10-N20 -> 2.1877462 | O21: =$B$10-O20 -> 1.6741227
A22: total unsprung weight | B22: =(B20/2)+B21 -> 64.65607 | D22: =(D20/2)+D21 -> 64.65607 | G22: compression passenger (in) | H22: =$C$26/H18 -> 0.42365333 | I22: =$C$26/I18 -> 0.39187933 | J22: =$C$26/J18 -> 0.36969748 | K22: =$C$26/K18 -> 0.34833718 | M22: =$C$26/M18 -> 0.22393105 | N22: =$C$26/N18 -> 0.1844138 | O22: =$C$26/O18 -> 0.11196552
A23: sprung weight | B23: =B18-(B20/2)-B21 -> 506.84393 | D23: =D18-(D20/2)-D21 -> 560.34393 | G23: shock compression remaining (in) | H23: =$B$14-H22 -> 3.2325967 | I23: =$B$14-I22 -> 3.2643707 | J23: =$B$14-J22 -> 3.2865525 | K23: =$B$14-K22 -> 3.3079128 | M23: =$B$14-M22 -> 3.432319 | N23: =$B$14-N22 -> 3.4718362 | O23: =$B$14-O22 -> 3.5442845
A24: spring angle | B24: 54 | D24: 54 | G24: shock compression remaining percent | H24: =H23/$B$13 -> 0.66377755 | I24: =I23/$B$13 -> 0.67030199 | J24: =J23/$B$13 -> 0.67485678 | K24: =K23/$B$13 -> 0.67924288 | M24: =M23/$B$13 -> 0.70478829 | N24: =N23/$B$13 -> 0.71290271 | O24: =O23/$B$13 -> 0.72777915
A25: spring motion ratio | B25: =(B6/B7)*SIN(RADIANS(B24)) -> 0.68260809 | C25: =B25 -> 0.68260809 | D25: =(B6/B7)*SIN(RADIANS(D24)) -> 0.68260809
A26: static load | B26: =B23/B25 -> 742.51088 | C26: =C18/C25 -> 78.375866 | D26: =D23/D25 -> 820.88674 | G26: compression load available (lbm) | H26: =H23*H18 -> 598.03038 | I26: =I23*I18 -> 652.87413 | J26: =J23*J18 -> 696.74913 | K26: =K23*K18 -> 744.28038 | M26: =M23*M18 -> 1201.3116 | N26: =N23*N18 -> 1475.5304 | O26: =O23*O18 -> 2480.9991
G27: wheel bump load available (lbm) | H27: =H26/$D$25 -> 876.09625 | I27: =I26/$D$25 -> 956.44066 | J27: =J26/$D$25 -> 1020.7162 | K27: =K26/$D$25 -> 1090.348 | M27: =M26/$D$25 -> 1759.8848 | N27: =N26/$D$25 -> 2161.6069 | O27: =O26/$D$25 -> 3634.5879

Sheet right
A1: Shock
A2: stock clearance | B2: 6
A3: target clearance | B3: 5
A4: body drops | B4: =B2-B3 -> 1
A5: shock unladen | B5: 15.5
A6: pivot to mount | B6: 13.5
A7: pivot to balljoint | B7: 16
A8: shock motion ratio | B8: =B6/B7 -> 0.84375
A9: compress shock | B9: =B4*B8 -> 0.84375
A10: target shock unladen | B10: =B5-B9 -> 14.65625
A11: new shock collapsed | B11: 11
A12: new shock extended | B12: 15.87
A13: shock stroke | B13: =B12-B11 -> 4.87 | C13: Unladen
A14: shock compression | B14: =B10-B11 -> 3.65625 | C14: =B14/B13 -> 0.75077002
A15: shock rebound | B15: =B12-B10 -> 1.21375 | C15: =B15/B13 -> 0.24922998
A17: Springs | C17: passengers | H17: 12B0185UHT | I17: 12B0200UHT | J17: 12B0212UHT | K17: 12B0225UHT | M17: 12B0175/350 | N17: 12B0200/425 | O17: 12B0230/700
A18: corner weight | B18: 557.35 | C18: =D18-B18 -> 67.65 | D18: =1250/2 -> 625 | G18: rate (lb/in) | H18: 185 | I18: 200 | J18: 212 | K18: 225 | M18: 350 | N18: 425 | O18: 700
A19: total weight | B19: =B18+left!B18+rear!B18 -> 1741.5 | D19: =D18+left!D18+rear!D18 -> 1950 | G19: compression unladen zero preload | H19: =$B$26/H18 -> 3.9015219 | I19: =$B$26/I18 -> 3.6089078 | J19: =$B$26/J18 -> 3.40463 | K19: =$B$26/K18 -> 3.207918 | M19: =3.57+(($B$26-D18)/M18) -> 3.8465187 | N19: =3.125+(($B$26-D18)/N18) -> 3.3527213 | O19: =2.72+(($B$26-D18)/O18) -> 2.8582594
A20: coilover weight | B20: =CONVERT(3055,"g","lbm") -> 6.7351221 | D20: =CONVERT(3055,"g","lbm") -> 6.7351221 | G20: shock length unladen zero preload (in) | H20: =$B$12-H19 -> 11.968478 | I20: =$B$12-I19 -> 12.261092 | J20: =$B$12-J19 -> 12.46537 | K20: =$B$12-K19 -> 12.662082 | M20: =$B$12-M19 -> 12.023481 | N20: =$B$12-N19 -> 12.517279 | O20: =$B$12-O19 -> 13.011741
A21: wheel and suspension | B21: =CONVERT(27.8,"kg","lbm") -> 61.288509 | D21: =CONVERT(27.8,"kg","lbm") -> 61.288509 | G21: preload to unladen ride height (in) | H21: =$B$10-H20 -> 2.6877719 | I21: =$B$10-I20 -> 2.3951578 | J21: =$B$10-J20 -> 2.19088 | K21: =$B$10-K20 -> 1.994168 | M21: =$B$10-M20 -> 2.6327687 | N21: =$B$10-N20 -> 2.1389713 | O21: =$B$10-O20 -> 1.6445094
A22: total unsprung weight | B22: =(B20/2)+B21 -> 64.65607 | D22: =(D20/2)+D21 -> 64.65607 | G22: compression passenger (in) | H22: =$C$26/H18 -> 0.5357037 | I22: =$C$26/I18 -> 0.49552592 | J22: =$C$26/J18 -> 0.46747728 | K22: =$C$26/K18 -> 0.44046748 | M22: =$C$26/M18 -> 0.28315767 | N22: =$C$26/N18 -> 0.23318867 | O22: =$C$26/O18 -> 0.14157883
A23: sprung weight | B23: =B18-(B20/2)-B21 -> 492.69393 | D23: =D18-(D20/2)-D21 -> 560.34393 | G23: shock compression remaining (in) | H23: =$B$14-H22 -> 3.1205463 | I23: =$B$14-I22 -> 3.1607241 | J23: =$B$14-J22 -> 3.1887727 | K23: =$B$14-K22 -> 3.2157825 | M23: =$B$14-M22 -> 3.3730923 | N23: =$B$14-N22 -> 3.4230613 | O23: =$B$14-O22 -> 3.5146712
A24: spring angle | B24: 54 | D24: 54 | G24: shock compression remaining percent | H24: =H23/$B$13 -> 0.64076926 | I24: =I23/$B$13 -> 0.64901932 | J24: =J23/$B$13 -> 0.65477879 | K24: =K23/$B$13 -> 0.66032495 | M24: =M23/$B$13 -> 0.69262676 | N24: =N23/$B$13 -> 0.70288734 | O24: =O23/$B$13 -> 0.72169839
A25: spring motion ratio | B25: =(B6/B7)*SIN(RADIANS(B24)) -> 0.68260809 | C25: =B25 -> 0.68260809 | D25: =(B6/B7)*SIN(RADIANS(D24)) -> 0.68260809
A26: static load | B26: =B23/B25 -> 721.78156 | C26: =C18/C25 -> 99.105184 | D26: =D23/D25 -> 820.88674 | G26: compression load available (lbm) | H26: =H23*H18 -> 577.30107 | I26: =I23*I18 -> 632.14482 | J26: =J23*J18 -> 676.01982 | K26: =K23*K18 -> 723.55107 | M26: =M23*M18 -> 1180.5823 | N26: =N23*N18 -> 1454.8011 | O26: =O23*O18 -> 2460.2698
G27: wheel bump load available (lbm) | H27: =H26/$D$25 -> 845.72843 | I27: =I26/$D$25 -> 926.07285 | J27: =J26/$D$25 -> 990.34838 | K27: =K26/$D$25 -> 1059.9802 | M27: =M26/$D$25 -> 1729.517 | N27: =N26/$D$25 -> 2131.2391 | O27: =O26/$D$25 -> 3604.2201

Sheet rear
A1: Shock
A2: stock clearance | B2: 6.25
A3: target clearance | B3: 5
A4: body drops | B4: =B2-B3 -> 1.25
A5: shock unladen | B5: 17.5
A6: pivot to mount | B6: 21.5
A7: pivot to balljoint | B7: 21.5
A8: shock motion ratio | B8: =B6/B7 -> 1
A9: compress shock | B9: =B4*B8 -> 1.25
A10: target shock unladen | B10: =B5-B9 -> 16.25
A11: new shock collapsed | B11: 12
A12: new shock extended | B12: 17.87
A13: shock stroke | B13: =B12-B11 -> 5.87 | C13: Unladen
A14: shock compression | B14: =B10-B11 -> 4.25 | C14: =B14/B13 -> 0.72402044
A15: shock rebound | B15: =B12-B10 -> 1.62 | C15: =B15/B13 -> 0.27597956
A17: Springs | C17: passengers | H17: 14B0175UHT | I17: 14B0185UHT | J17: 14B0200UHT | K17: 14B0212UHT | M17: 14B0175/350 | N17: 14B0200/425 | O17: 14B0230/700
A18: corner weight | B18: 612.65 | C18: =D18-B18 -> 87.35 | D18: 700 | G18: rate (lb/in) | H18: 175 | I18: 185 | J18: 200 | K18: 212 | M18: 350 | N18: 425 | O18: 700
A19: total weight | B19: =B18+left!B18+right!B18 -> 1741.5 | D19: =D18+left!D18+right!D18 -> 1950 | G19: compression unladen zero preload | H19: =$B$26/H18 -> 4.0465074 | I19: =$B$26/I18 -> 3.8277773 | J19: =$B$26/J18 -> 3.540694 | K19: =$B$26/K18 -> 3.3402774 | M19: =3.57+(($B$25-625)/M18) -> 1.786306 | N19: =3.125+(($B$25-625)/N18) -> 1.6560755 | O19: =2.72+(($B$25-625)/O18) -> 1.828153
A20: coilover weight | B20: =CONVERT((3055/16*18.5),"g","lbm") -> 7.7874849 | D20: =CONVERT((3055/16*18.5),"g","lbm") -> 7.7874849 | G20: shock length unladen zero preload (in) | H20: =$B$12-H19 -> 13.823493 | I20: =$B$12-I19 -> 14.042223 | J20: =$B$12-J19 -> 14.329306 | K20: =$B$12-K19 -> 14.529723 | M20: =$B$12-M19 -> 16.083694 | N20: =$B$12-N19 -> 16.213924 | O20: =$B$12-O19 -> 16.041847
A21: wheel and suspension | B21: =CONVERT(49,"kg","lbm") -> 108.02651 | D21: =CONVERT(49,"kg","lbm") -> 108.02651 | G21: preload to unladen ride height (in) | H21: =$B$10-H20 -> 2.4265074 | I21: =$B$10-I20 -> 2.2077773 | J21: =$B$10-J20 -> 1.920694 | K21: =$B$10-K20 -> 1.7202774 | M21: =$B$10-M20 -> 0.16630602 | N21: =$B$10-N20 -> 0.036075545 | O21: =$B$10-O20 -> 0.20815301
A22: unsprung weight | B22: =(B20/2)+B21 -> 111.92025 | D22: =(D20/2)+D21 -> 111.92025 | G22: compression passenger (in) | H22: =$C$26/H18 -> 0.7058946 | I22: =$C$26/I18 -> 0.66773813 | J22: =$C$26/J18 -> 0.61765777 | K22: =$C$26/K18 -> 0.58269601 | M22: =$C$26/M18 -> 0.3529473 | N22: =$C$26/N18 -> 0.29066248 | O22: =$C$26/O18 -> 0.17647365
A23: sprung weight | B23: =B18-(B20/2)-B21 -> 500.72975 | D23: =D18-(D20/2)-D21 -> 588.07975 | G23: shock compression remaining (in) | H23: =$B$14-H22 -> 3.5441054 | I23: =$B$14-I22 -> 3.5822619 | J23: =$B$14-J22 -> 3.6323422 | K23: =$B$14-K22 -> 3.667304 | M23: =$B$14-M22 -> 3.8970527 | N23: =$B$14-N22 -> 3.9593375 | O23: =$B$14-O22 -> 4.0735264
A24: spring angle | B24: 45 | D24: 45 | G24: shock compression remaining percent | H24: =H23/$B$13 -> 0.60376583 | I24: =I23/$B$13 -> 0.61026608 | J24: =J23/$B$13 -> 0.61879765 | K24: =K23/$B$13 -> 0.62475366 | M24: =M23/$B$13 -> 0.66389313 | N24: =N23/$B$13 -> 0.67450384 | O24: =O23/$B$13 -> 0.69395679
A25: spring motion ratio | B25: =(B6/B7)*SIN(RADIANS(B24)) -> 0.70710678 | C25: =B25 -> 0.70710678 | D25: =(B6/B7)*SIN(RADIANS(D24)) -> 0.70710678
A26: static load | B26: =B23/B25 -> 708.1388 | C26: =C18/C25 -> 123.53155 | D26: =D23/D25 -> 831.67036 | G26: compression load available (lbm) | H26: =H23*H18 -> 620.21845 | I26: =I23*I18 -> 662.71845 | J26: =J23*J18 -> 726.46845 | K26: =K23*K18 -> 777.46845 | M26: =M23*M18 -> 1363.9684 | N26: =N23*N18 -> 1682.7184 | O26: =O23*O18 -> 2851.4684
G27: wheel bump load available (lbm) | H27: =H26/$D$25 -> 877.12134 | I27: =I26/$D$25 -> 937.22541 | J27: =J26/$D$25 -> 1027.3815 | K27: =K26/$D$25 -> 1099.5064 | M27: =M26/$D$25 -> 1928.9427 | N27: =N26/$D$25 -> 2379.7232 | O27: =O26/$D$25 -> 4032.5853
